BEGIN:VCALENDAR
VERSION:2.0
PRODID:-//Rideau Christian Fellowship - ECPv6.15.12.2//NONSGML v1.0//EN
CALSCALE:GREGORIAN
METHOD:PUBLISH
X-WR-CALNAME:Rideau Christian Fellowship
X-ORIGINAL-URL:https://rideauchristianfellowship.com
X-WR-CALDESC:Events for Rideau Christian Fellowship
REFRESH-INTERVAL;VALUE=DURATION:PT1H
X-Robots-Tag:noindex
X-PUBLISHED-TTL:PT1H
BEGIN:VTIMEZONE
TZID:UTC
BEGIN:STANDARD
TZOFFSETFROM:+0000
TZOFFSETTO:+0000
TZNAME:UTC
DTSTART:20250101T000000
END:STANDARD
END:VTIMEZONE
BEGIN:VEVENT
DTSTART;TZID=UTC:20260423T190000
DTEND;TZID=UTC:20260423T200000
DTSTAMP:20260422T142445
CREATED:20251124T193448Z
LAST-MODIFIED:20251124T193448Z
UID:10003257-1776970800-1776974400@rideauchristianfellowship.com
SUMMARY:Lombardy Community Group
DESCRIPTION:
URL:https://rideauchristianfellowship.com/event/lombardy-community-group/2026-04-23/
END:VEVENT
BEGIN:VEVENT
DTSTART;TZID=UTC:20260430T190000
DTEND;TZID=UTC:20260430T200000
DTSTAMP:20260422T142445
CREATED:20251124T193448Z
LAST-MODIFIED:20251124T193448Z
UID:10003258-1777575600-1777579200@rideauchristianfellowship.com
SUMMARY:Lombardy Community Group
DESCRIPTION:
URL:https://rideauchristianfellowship.com/event/lombardy-community-group/2026-04-30/
END:VEVENT
BEGIN:VEVENT
DTSTART;TZID=UTC:20260507T190000
DTEND;TZID=UTC:20260507T200000
DTSTAMP:20260422T142445
CREATED:20251124T193448Z
LAST-MODIFIED:20251124T193448Z
UID:10003259-1778180400-1778184000@rideauchristianfellowship.com
SUMMARY:Lombardy Community Group
DESCRIPTION:
URL:https://rideauchristianfellowship.com/event/lombardy-community-group/2026-05-07/
END:VEVENT
BEGIN:VEVENT
DTSTART;TZID=UTC:20260514T190000
DTEND;TZID=UTC:20260514T200000
DTSTAMP:20260422T142445
CREATED:20251124T193448Z
LAST-MODIFIED:20251124T193448Z
UID:10003260-1778785200-1778788800@rideauchristianfellowship.com
SUMMARY:Lombardy Community Group
DESCRIPTION:
URL:https://rideauchristianfellowship.com/event/lombardy-community-group/2026-05-14/
END:VEVENT
BEGIN:VEVENT
DTSTART;TZID=UTC:20260521T190000
DTEND;TZID=UTC:20260521T200000
DTSTAMP:20260422T142445
CREATED:20251124T193448Z
LAST-MODIFIED:20251124T193448Z
UID:10003261-1779390000-1779393600@rideauchristianfellowship.com
SUMMARY:Lombardy Community Group
DESCRIPTION:
URL:https://rideauchristianfellowship.com/event/lombardy-community-group/2026-05-21/
END:VEVENT
BEGIN:VEVENT
DTSTART;TZID=UTC:20260528T190000
DTEND;TZID=UTC:20260528T200000
DTSTAMP:20260422T142445
CREATED:20251124T193448Z
LAST-MODIFIED:20251124T193448Z
UID:10003262-1779994800-1779998400@rideauchristianfellowship.com
SUMMARY:Lombardy Community Group
DESCRIPTION:
URL:https://rideauchristianfellowship.com/event/lombardy-community-group/2026-05-28/
END:VEVENT
BEGIN:VEVENT
DTSTART;TZID=UTC:20260604T190000
DTEND;TZID=UTC:20260604T200000
DTSTAMP:20260422T142445
CREATED:20251124T193448Z
LAST-MODIFIED:20251124T193448Z
UID:10003263-1780599600-1780603200@rideauchristianfellowship.com
SUMMARY:Lombardy Community Group
DESCRIPTION:
URL:https://rideauchristianfellowship.com/event/lombardy-community-group/2026-06-04/
END:VEVENT
BEGIN:VEVENT
DTSTART;TZID=UTC:20260611T190000
DTEND;TZID=UTC:20260611T200000
DTSTAMP:20260422T142445
CREATED:20251124T193448Z
LAST-MODIFIED:20251124T193448Z
UID:10003264-1781204400-1781208000@rideauchristianfellowship.com
SUMMARY:Lombardy Community Group
DESCRIPTION:
URL:https://rideauchristianfellowship.com/event/lombardy-community-group/2026-06-11/
END:VEVENT
BEGIN:VEVENT
DTSTART;TZID=UTC:20260618T190000
DTEND;TZID=UTC:20260618T200000
DTSTAMP:20260422T142445
CREATED:20251124T193448Z
LAST-MODIFIED:20251124T193448Z
UID:10003265-1781809200-1781812800@rideauchristianfellowship.com
SUMMARY:Lombardy Community Group
DESCRIPTION:
URL:https://rideauchristianfellowship.com/event/lombardy-community-group/2026-06-18/
END:VEVENT
BEGIN:VEVENT
DTSTART;TZID=UTC:20260625T190000
DTEND;TZID=UTC:20260625T200000
DTSTAMP:20260422T142445
CREATED:20251124T193448Z
LAST-MODIFIED:20251124T193448Z
UID:10003266-1782414000-1782417600@rideauchristianfellowship.com
SUMMARY:Lombardy Community Group
DESCRIPTION:
URL:https://rideauchristianfellowship.com/event/lombardy-community-group/2026-06-25/
END:VEVENT
BEGIN:VEVENT
DTSTART;TZID=UTC:20260702T190000
DTEND;TZID=UTC:20260702T200000
DTSTAMP:20260422T142445
CREATED:20251124T193448Z
LAST-MODIFIED:20251124T193448Z
UID:10003267-1783018800-1783022400@rideauchristianfellowship.com
SUMMARY:Lombardy Community Group
DESCRIPTION:
URL:https://rideauchristianfellowship.com/event/lombardy-community-group/2026-07-02/
END:VEVENT
BEGIN:VEVENT
DTSTART;TZID=UTC:20260709T190000
DTEND;TZID=UTC:20260709T200000
DTSTAMP:20260422T142445
CREATED:20251124T193448Z
LAST-MODIFIED:20251124T193448Z
UID:10003268-1783623600-1783627200@rideauchristianfellowship.com
SUMMARY:Lombardy Community Group
DESCRIPTION:
URL:https://rideauchristianfellowship.com/event/lombardy-community-group/2026-07-09/
END:VEVENT
BEGIN:VEVENT
DTSTART;TZID=UTC:20260716T190000
DTEND;TZID=UTC:20260716T200000
DTSTAMP:20260422T142445
CREATED:20251124T193448Z
LAST-MODIFIED:20251124T193448Z
UID:10003269-1784228400-1784232000@rideauchristianfellowship.com
SUMMARY:Lombardy Community Group
DESCRIPTION:
URL:https://rideauchristianfellowship.com/event/lombardy-community-group/2026-07-16/
END:VEVENT
BEGIN:VEVENT
DTSTART;TZID=UTC:20260723T190000
DTEND;TZID=UTC:20260723T200000
DTSTAMP:20260422T142445
CREATED:20251124T193448Z
LAST-MODIFIED:20251124T193448Z
UID:10003270-1784833200-1784836800@rideauchristianfellowship.com
SUMMARY:Lombardy Community Group
DESCRIPTION:
URL:https://rideauchristianfellowship.com/event/lombardy-community-group/2026-07-23/
END:VEVENT
BEGIN:VEVENT
DTSTART;TZID=UTC:20260730T190000
DTEND;TZID=UTC:20260730T200000
DTSTAMP:20260422T142445
CREATED:20251124T193448Z
LAST-MODIFIED:20251124T193448Z
UID:10003271-1785438000-1785441600@rideauchristianfellowship.com
SUMMARY:Lombardy Community Group
DESCRIPTION:
URL:https://rideauchristianfellowship.com/event/lombardy-community-group/2026-07-30/
END:VEVENT
BEGIN:VEVENT
DTSTART;TZID=UTC:20260806T190000
DTEND;TZID=UTC:20260806T200000
DTSTAMP:20260422T142445
CREATED:20251124T193448Z
LAST-MODIFIED:20251124T193448Z
UID:10003272-1786042800-1786046400@rideauchristianfellowship.com
SUMMARY:Lombardy Community Group
DESCRIPTION:
URL:https://rideauchristianfellowship.com/event/lombardy-community-group/2026-08-06/
END:VEVENT
BEGIN:VEVENT
DTSTART;TZID=UTC:20260813T190000
DTEND;TZID=UTC:20260813T200000
DTSTAMP:20260422T142445
CREATED:20251124T193448Z
LAST-MODIFIED:20251124T193448Z
UID:10003273-1786647600-1786651200@rideauchristianfellowship.com
SUMMARY:Lombardy Community Group
DESCRIPTION:
URL:https://rideauchristianfellowship.com/event/lombardy-community-group/2026-08-13/
END:VEVENT
BEGIN:VEVENT
DTSTART;TZID=UTC:20260820T190000
DTEND;TZID=UTC:20260820T200000
DTSTAMP:20260422T142445
CREATED:20251124T193448Z
LAST-MODIFIED:20251124T193448Z
UID:10003274-1787252400-1787256000@rideauchristianfellowship.com
SUMMARY:Lombardy Community Group
DESCRIPTION:
URL:https://rideauchristianfellowship.com/event/lombardy-community-group/2026-08-20/
END:VEVENT
BEGIN:VEVENT
DTSTART;TZID=UTC:20260827T190000
DTEND;TZID=UTC:20260827T200000
DTSTAMP:20260422T142445
CREATED:20251124T193448Z
LAST-MODIFIED:20251124T193448Z
UID:10003275-1787857200-1787860800@rideauchristianfellowship.com
SUMMARY:Lombardy Community Group
DESCRIPTION:
URL:https://rideauchristianfellowship.com/event/lombardy-community-group/2026-08-27/
END:VEVENT
BEGIN:VEVENT
DTSTART;TZID=UTC:20260903T190000
DTEND;TZID=UTC:20260903T200000
DTSTAMP:20260422T142445
CREATED:20251124T193448Z
LAST-MODIFIED:20251124T193448Z
UID:10003276-1788462000-1788465600@rideauchristianfellowship.com
SUMMARY:Lombardy Community Group
DESCRIPTION:
URL:https://rideauchristianfellowship.com/event/lombardy-community-group/2026-09-03/
END:VEVENT
BEGIN:VEVENT
DTSTART;TZID=UTC:20260910T190000
DTEND;TZID=UTC:20260910T200000
DTSTAMP:20260422T142445
CREATED:20251124T193448Z
LAST-MODIFIED:20251124T193448Z
UID:10003277-1789066800-1789070400@rideauchristianfellowship.com
SUMMARY:Lombardy Community Group
DESCRIPTION:
URL:https://rideauchristianfellowship.com/event/lombardy-community-group/2026-09-10/
END:VEVENT
BEGIN:VEVENT
DTSTART;TZID=UTC:20260917T190000
DTEND;TZID=UTC:20260917T200000
DTSTAMP:20260422T142445
CREATED:20251124T193448Z
LAST-MODIFIED:20251124T193448Z
UID:10003278-1789671600-1789675200@rideauchristianfellowship.com
SUMMARY:Lombardy Community Group
DESCRIPTION:
URL:https://rideauchristianfellowship.com/event/lombardy-community-group/2026-09-17/
END:VEVENT
BEGIN:VEVENT
DTSTART;TZID=UTC:20260924T190000
DTEND;TZID=UTC:20260924T200000
DTSTAMP:20260422T142445
CREATED:20251124T193448Z
LAST-MODIFIED:20251124T193448Z
UID:10003279-1790276400-1790280000@rideauchristianfellowship.com
SUMMARY:Lombardy Community Group
DESCRIPTION:
URL:https://rideauchristianfellowship.com/event/lombardy-community-group/2026-09-24/
END:VEVENT
BEGIN:VEVENT
DTSTART;TZID=UTC:20261001T190000
DTEND;TZID=UTC:20261001T200000
DTSTAMP:20260422T142445
CREATED:20251124T193448Z
LAST-MODIFIED:20251124T193448Z
UID:10003280-1790881200-1790884800@rideauchristianfellowship.com
SUMMARY:Lombardy Community Group
DESCRIPTION:
URL:https://rideauchristianfellowship.com/event/lombardy-community-group/2026-10-01/
END:VEVENT
BEGIN:VEVENT
DTSTART;TZID=UTC:20261008T190000
DTEND;TZID=UTC:20261008T200000
DTSTAMP:20260422T142445
CREATED:20251124T193448Z
LAST-MODIFIED:20251124T193448Z
UID:10003281-1791486000-1791489600@rideauchristianfellowship.com
SUMMARY:Lombardy Community Group
DESCRIPTION:
URL:https://rideauchristianfellowship.com/event/lombardy-community-group/2026-10-08/
END:VEVENT
BEGIN:VEVENT
DTSTART;TZID=UTC:20261015T190000
DTEND;TZID=UTC:20261015T200000
DTSTAMP:20260422T142445
CREATED:20251124T193448Z
LAST-MODIFIED:20251124T193448Z
UID:10003282-1792090800-1792094400@rideauchristianfellowship.com
SUMMARY:Lombardy Community Group
DESCRIPTION:
URL:https://rideauchristianfellowship.com/event/lombardy-community-group/2026-10-15/
END:VEVENT
BEGIN:VEVENT
DTSTART;TZID=UTC:20261022T190000
DTEND;TZID=UTC:20261022T200000
DTSTAMP:20260422T142445
CREATED:20251124T193448Z
LAST-MODIFIED:20251124T193448Z
UID:10003283-1792695600-1792699200@rideauchristianfellowship.com
SUMMARY:Lombardy Community Group
DESCRIPTION:
URL:https://rideauchristianfellowship.com/event/lombardy-community-group/2026-10-22/
END:VEVENT
BEGIN:VEVENT
DTSTART;TZID=UTC:20261029T190000
DTEND;TZID=UTC:20261029T200000
DTSTAMP:20260422T142445
CREATED:20251124T193448Z
LAST-MODIFIED:20251124T193448Z
UID:10003284-1793300400-1793304000@rideauchristianfellowship.com
SUMMARY:Lombardy Community Group
DESCRIPTION:
URL:https://rideauchristianfellowship.com/event/lombardy-community-group/2026-10-29/
END:VEVENT
BEGIN:VEVENT
DTSTART;TZID=UTC:20261105T190000
DTEND;TZID=UTC:20261105T200000
DTSTAMP:20260422T142445
CREATED:20251124T193448Z
LAST-MODIFIED:20251124T193448Z
UID:10003285-1793905200-1793908800@rideauchristianfellowship.com
SUMMARY:Lombardy Community Group
DESCRIPTION:
URL:https://rideauchristianfellowship.com/event/lombardy-community-group/2026-11-05/
END:VEVENT
BEGIN:VEVENT
DTSTART;TZID=UTC:20261112T190000
DTEND;TZID=UTC:20261112T200000
DTSTAMP:20260422T142445
CREATED:20251124T193448Z
LAST-MODIFIED:20251124T193448Z
UID:10003286-1794510000-1794513600@rideauchristianfellowship.com
SUMMARY:Lombardy Community Group
DESCRIPTION:
URL:https://rideauchristianfellowship.com/event/lombardy-community-group/2026-11-12/
END:VEVENT
END:VCALENDAR