BEGIN:VCALENDAR
VERSION:2.0
PRODID:-//Rideau Christian Fellowship - ECPv6.15.12.2//NONSGML v1.0//EN
CALSCALE:GREGORIAN
METHOD:PUBLISH
X-WR-CALNAME:Rideau Christian Fellowship
X-ORIGINAL-URL:https://rideauchristianfellowship.com
X-WR-CALDESC:Events for Rideau Christian Fellowship
REFRESH-INTERVAL;VALUE=DURATION:PT1H
X-Robots-Tag:noindex
X-PUBLISHED-TTL:PT1H
BEGIN:VTIMEZONE
TZID:UTC
BEGIN:STANDARD
TZOFFSETFROM:+0000
TZOFFSETTO:+0000
TZNAME:UTC
DTSTART:20250101T000000
END:STANDARD
END:VTIMEZONE
BEGIN:VEVENT
DTSTART;TZID=UTC:20260422T193000
DTEND;TZID=UTC:20260422T203000
DTSTAMP:20260422T142506
CREATED:20251124T201554Z
LAST-MODIFIED:20251124T201554Z
UID:10003790-1776886200-1776889800@rideauchristianfellowship.com
SUMMARY:Men’s Bible Study
DESCRIPTION:
URL:https://rideauchristianfellowship.com/event/mens-bible-study/2026-04-22/
END:VEVENT
BEGIN:VEVENT
DTSTART;TZID=UTC:20260429T193000
DTEND;TZID=UTC:20260429T203000
DTSTAMP:20260422T142506
CREATED:20251124T201554Z
LAST-MODIFIED:20251124T201554Z
UID:10003791-1777491000-1777494600@rideauchristianfellowship.com
SUMMARY:Men’s Bible Study
DESCRIPTION:
URL:https://rideauchristianfellowship.com/event/mens-bible-study/2026-04-29/
END:VEVENT
BEGIN:VEVENT
DTSTART;TZID=UTC:20260506T193000
DTEND;TZID=UTC:20260506T203000
DTSTAMP:20260422T142506
CREATED:20251124T201554Z
LAST-MODIFIED:20251124T201554Z
UID:10003792-1778095800-1778099400@rideauchristianfellowship.com
SUMMARY:Men’s Bible Study
DESCRIPTION:
URL:https://rideauchristianfellowship.com/event/mens-bible-study/2026-05-06/
END:VEVENT
BEGIN:VEVENT
DTSTART;TZID=UTC:20260513T193000
DTEND;TZID=UTC:20260513T203000
DTSTAMP:20260422T142506
CREATED:20251124T201554Z
LAST-MODIFIED:20251124T201554Z
UID:10003793-1778700600-1778704200@rideauchristianfellowship.com
SUMMARY:Men’s Bible Study
DESCRIPTION:
URL:https://rideauchristianfellowship.com/event/mens-bible-study/2026-05-13/
END:VEVENT
BEGIN:VEVENT
DTSTART;TZID=UTC:20260520T193000
DTEND;TZID=UTC:20260520T203000
DTSTAMP:20260422T142506
CREATED:20251124T201554Z
LAST-MODIFIED:20251124T201554Z
UID:10003794-1779305400-1779309000@rideauchristianfellowship.com
SUMMARY:Men’s Bible Study
DESCRIPTION:
URL:https://rideauchristianfellowship.com/event/mens-bible-study/2026-05-20/
END:VEVENT
BEGIN:VEVENT
DTSTART;TZID=UTC:20260527T193000
DTEND;TZID=UTC:20260527T203000
DTSTAMP:20260422T142506
CREATED:20251124T201554Z
LAST-MODIFIED:20251124T201554Z
UID:10003795-1779910200-1779913800@rideauchristianfellowship.com
SUMMARY:Men’s Bible Study
DESCRIPTION:
URL:https://rideauchristianfellowship.com/event/mens-bible-study/2026-05-27/
END:VEVENT
BEGIN:VEVENT
DTSTART;TZID=UTC:20260603T193000
DTEND;TZID=UTC:20260603T203000
DTSTAMP:20260422T142506
CREATED:20251124T201554Z
LAST-MODIFIED:20251124T201554Z
UID:10003796-1780515000-1780518600@rideauchristianfellowship.com
SUMMARY:Men’s Bible Study
DESCRIPTION:
URL:https://rideauchristianfellowship.com/event/mens-bible-study/2026-06-03/
END:VEVENT
BEGIN:VEVENT
DTSTART;TZID=UTC:20260610T193000
DTEND;TZID=UTC:20260610T203000
DTSTAMP:20260422T142506
CREATED:20251124T201554Z
LAST-MODIFIED:20251124T201554Z
UID:10003797-1781119800-1781123400@rideauchristianfellowship.com
SUMMARY:Men’s Bible Study
DESCRIPTION:
URL:https://rideauchristianfellowship.com/event/mens-bible-study/2026-06-10/
END:VEVENT
BEGIN:VEVENT
DTSTART;TZID=UTC:20260617T193000
DTEND;TZID=UTC:20260617T203000
DTSTAMP:20260422T142506
CREATED:20251124T201554Z
LAST-MODIFIED:20251124T201554Z
UID:10003798-1781724600-1781728200@rideauchristianfellowship.com
SUMMARY:Men’s Bible Study
DESCRIPTION:
URL:https://rideauchristianfellowship.com/event/mens-bible-study/2026-06-17/
END:VEVENT
BEGIN:VEVENT
DTSTART;TZID=UTC:20260624T193000
DTEND;TZID=UTC:20260624T203000
DTSTAMP:20260422T142506
CREATED:20251124T201554Z
LAST-MODIFIED:20251124T201554Z
UID:10003799-1782329400-1782333000@rideauchristianfellowship.com
SUMMARY:Men’s Bible Study
DESCRIPTION:
URL:https://rideauchristianfellowship.com/event/mens-bible-study/2026-06-24/
END:VEVENT
BEGIN:VEVENT
DTSTART;TZID=UTC:20260701T193000
DTEND;TZID=UTC:20260701T203000
DTSTAMP:20260422T142506
CREATED:20251124T201554Z
LAST-MODIFIED:20251124T201554Z
UID:10003800-1782934200-1782937800@rideauchristianfellowship.com
SUMMARY:Men’s Bible Study
DESCRIPTION:
URL:https://rideauchristianfellowship.com/event/mens-bible-study/2026-07-01/
END:VEVENT
BEGIN:VEVENT
DTSTART;TZID=UTC:20260708T193000
DTEND;TZID=UTC:20260708T203000
DTSTAMP:20260422T142506
CREATED:20251124T201554Z
LAST-MODIFIED:20251124T201554Z
UID:10003801-1783539000-1783542600@rideauchristianfellowship.com
SUMMARY:Men’s Bible Study
DESCRIPTION:
URL:https://rideauchristianfellowship.com/event/mens-bible-study/2026-07-08/
END:VEVENT
BEGIN:VEVENT
DTSTART;TZID=UTC:20260715T193000
DTEND;TZID=UTC:20260715T203000
DTSTAMP:20260422T142506
CREATED:20251124T201554Z
LAST-MODIFIED:20251124T201554Z
UID:10003802-1784143800-1784147400@rideauchristianfellowship.com
SUMMARY:Men’s Bible Study
DESCRIPTION:
URL:https://rideauchristianfellowship.com/event/mens-bible-study/2026-07-15/
END:VEVENT
BEGIN:VEVENT
DTSTART;TZID=UTC:20260722T193000
DTEND;TZID=UTC:20260722T203000
DTSTAMP:20260422T142506
CREATED:20251124T201554Z
LAST-MODIFIED:20251124T201554Z
UID:10003803-1784748600-1784752200@rideauchristianfellowship.com
SUMMARY:Men’s Bible Study
DESCRIPTION:
URL:https://rideauchristianfellowship.com/event/mens-bible-study/2026-07-22/
END:VEVENT
BEGIN:VEVENT
DTSTART;TZID=UTC:20260729T193000
DTEND;TZID=UTC:20260729T203000
DTSTAMP:20260422T142506
CREATED:20251124T201554Z
LAST-MODIFIED:20251124T201554Z
UID:10003804-1785353400-1785357000@rideauchristianfellowship.com
SUMMARY:Men’s Bible Study
DESCRIPTION:
URL:https://rideauchristianfellowship.com/event/mens-bible-study/2026-07-29/
END:VEVENT
BEGIN:VEVENT
DTSTART;TZID=UTC:20260805T193000
DTEND;TZID=UTC:20260805T203000
DTSTAMP:20260422T142506
CREATED:20251124T201554Z
LAST-MODIFIED:20251124T201554Z
UID:10003805-1785958200-1785961800@rideauchristianfellowship.com
SUMMARY:Men’s Bible Study
DESCRIPTION:
URL:https://rideauchristianfellowship.com/event/mens-bible-study/2026-08-05/
END:VEVENT
BEGIN:VEVENT
DTSTART;TZID=UTC:20260812T193000
DTEND;TZID=UTC:20260812T203000
DTSTAMP:20260422T142506
CREATED:20251124T201554Z
LAST-MODIFIED:20251124T201554Z
UID:10003806-1786563000-1786566600@rideauchristianfellowship.com
SUMMARY:Men’s Bible Study
DESCRIPTION:
URL:https://rideauchristianfellowship.com/event/mens-bible-study/2026-08-12/
END:VEVENT
BEGIN:VEVENT
DTSTART;TZID=UTC:20260819T193000
DTEND;TZID=UTC:20260819T203000
DTSTAMP:20260422T142506
CREATED:20251124T201554Z
LAST-MODIFIED:20251124T201554Z
UID:10003807-1787167800-1787171400@rideauchristianfellowship.com
SUMMARY:Men’s Bible Study
DESCRIPTION:
URL:https://rideauchristianfellowship.com/event/mens-bible-study/2026-08-19/
END:VEVENT
BEGIN:VEVENT
DTSTART;TZID=UTC:20260826T193000
DTEND;TZID=UTC:20260826T203000
DTSTAMP:20260422T142506
CREATED:20251124T201554Z
LAST-MODIFIED:20251124T201554Z
UID:10003808-1787772600-1787776200@rideauchristianfellowship.com
SUMMARY:Men’s Bible Study
DESCRIPTION:
URL:https://rideauchristianfellowship.com/event/mens-bible-study/2026-08-26/
END:VEVENT
BEGIN:VEVENT
DTSTART;TZID=UTC:20260902T193000
DTEND;TZID=UTC:20260902T203000
DTSTAMP:20260422T142506
CREATED:20251124T201554Z
LAST-MODIFIED:20251124T201554Z
UID:10003809-1788377400-1788381000@rideauchristianfellowship.com
SUMMARY:Men’s Bible Study
DESCRIPTION:
URL:https://rideauchristianfellowship.com/event/mens-bible-study/2026-09-02/
END:VEVENT
BEGIN:VEVENT
DTSTART;TZID=UTC:20260909T193000
DTEND;TZID=UTC:20260909T203000
DTSTAMP:20260422T142506
CREATED:20251124T201554Z
LAST-MODIFIED:20251124T201554Z
UID:10003810-1788982200-1788985800@rideauchristianfellowship.com
SUMMARY:Men’s Bible Study
DESCRIPTION:
URL:https://rideauchristianfellowship.com/event/mens-bible-study/2026-09-09/
END:VEVENT
BEGIN:VEVENT
DTSTART;TZID=UTC:20260916T193000
DTEND;TZID=UTC:20260916T203000
DTSTAMP:20260422T142506
CREATED:20251124T201554Z
LAST-MODIFIED:20251124T201554Z
UID:10003811-1789587000-1789590600@rideauchristianfellowship.com
SUMMARY:Men’s Bible Study
DESCRIPTION:
URL:https://rideauchristianfellowship.com/event/mens-bible-study/2026-09-16/
END:VEVENT
BEGIN:VEVENT
DTSTART;TZID=UTC:20260923T193000
DTEND;TZID=UTC:20260923T203000
DTSTAMP:20260422T142506
CREATED:20251124T201554Z
LAST-MODIFIED:20251124T201554Z
UID:10003812-1790191800-1790195400@rideauchristianfellowship.com
SUMMARY:Men’s Bible Study
DESCRIPTION:
URL:https://rideauchristianfellowship.com/event/mens-bible-study/2026-09-23/
END:VEVENT
BEGIN:VEVENT
DTSTART;TZID=UTC:20260930T193000
DTEND;TZID=UTC:20260930T203000
DTSTAMP:20260422T142506
CREATED:20251124T201554Z
LAST-MODIFIED:20251124T201554Z
UID:10003813-1790796600-1790800200@rideauchristianfellowship.com
SUMMARY:Men’s Bible Study
DESCRIPTION:
URL:https://rideauchristianfellowship.com/event/mens-bible-study/2026-09-30/
END:VEVENT
BEGIN:VEVENT
DTSTART;TZID=UTC:20261007T193000
DTEND;TZID=UTC:20261007T203000
DTSTAMP:20260422T142506
CREATED:20251124T201554Z
LAST-MODIFIED:20251124T201554Z
UID:10003814-1791401400-1791405000@rideauchristianfellowship.com
SUMMARY:Men’s Bible Study
DESCRIPTION:
URL:https://rideauchristianfellowship.com/event/mens-bible-study/2026-10-07/
END:VEVENT
BEGIN:VEVENT
DTSTART;TZID=UTC:20261014T193000
DTEND;TZID=UTC:20261014T203000
DTSTAMP:20260422T142506
CREATED:20251124T201554Z
LAST-MODIFIED:20251124T201554Z
UID:10003815-1792006200-1792009800@rideauchristianfellowship.com
SUMMARY:Men’s Bible Study
DESCRIPTION:
URL:https://rideauchristianfellowship.com/event/mens-bible-study/2026-10-14/
END:VEVENT
BEGIN:VEVENT
DTSTART;TZID=UTC:20261021T193000
DTEND;TZID=UTC:20261021T203000
DTSTAMP:20260422T142506
CREATED:20251124T201554Z
LAST-MODIFIED:20251124T201554Z
UID:10003816-1792611000-1792614600@rideauchristianfellowship.com
SUMMARY:Men’s Bible Study
DESCRIPTION:
URL:https://rideauchristianfellowship.com/event/mens-bible-study/2026-10-21/
END:VEVENT
BEGIN:VEVENT
DTSTART;TZID=UTC:20261028T193000
DTEND;TZID=UTC:20261028T203000
DTSTAMP:20260422T142506
CREATED:20251124T201554Z
LAST-MODIFIED:20251124T201554Z
UID:10003817-1793215800-1793219400@rideauchristianfellowship.com
SUMMARY:Men’s Bible Study
DESCRIPTION:
URL:https://rideauchristianfellowship.com/event/mens-bible-study/2026-10-28/
END:VEVENT
BEGIN:VEVENT
DTSTART;TZID=UTC:20261104T193000
DTEND;TZID=UTC:20261104T203000
DTSTAMP:20260422T142506
CREATED:20251124T201554Z
LAST-MODIFIED:20251124T201554Z
UID:10003818-1793820600-1793824200@rideauchristianfellowship.com
SUMMARY:Men’s Bible Study
DESCRIPTION:
URL:https://rideauchristianfellowship.com/event/mens-bible-study/2026-11-04/
END:VEVENT
BEGIN:VEVENT
DTSTART;TZID=UTC:20261111T193000
DTEND;TZID=UTC:20261111T203000
DTSTAMP:20260422T142506
CREATED:20251124T201554Z
LAST-MODIFIED:20251124T201554Z
UID:10003819-1794425400-1794429000@rideauchristianfellowship.com
SUMMARY:Men’s Bible Study
DESCRIPTION:
URL:https://rideauchristianfellowship.com/event/mens-bible-study/2026-11-11/
END:VEVENT
END:VCALENDAR