BEGIN:VCALENDAR
VERSION:2.0
PRODID:-//Rideau Christian Fellowship - ECPv6.15.12.2//NONSGML v1.0//EN
CALSCALE:GREGORIAN
METHOD:PUBLISH
X-WR-CALNAME:Rideau Christian Fellowship
X-ORIGINAL-URL:https://rideauchristianfellowship.com
X-WR-CALDESC:Events for Rideau Christian Fellowship
REFRESH-INTERVAL;VALUE=DURATION:PT1H
X-Robots-Tag:noindex
X-PUBLISHED-TTL:PT1H
BEGIN:VTIMEZONE
TZID:UTC
BEGIN:STANDARD
TZOFFSETFROM:+0000
TZOFFSETTO:+0000
TZNAME:UTC
DTSTART:20250101T000000
END:STANDARD
END:VTIMEZONE
BEGIN:VEVENT
DTSTART;TZID=UTC:20260422T190000
DTEND;TZID=UTC:20260422T200000
DTSTAMP:20260422T142537
CREATED:20251124T201959Z
LAST-MODIFIED:20251124T201959Z
UID:10004052-1776884400-1776888000@rideauchristianfellowship.com
SUMMARY:Carleton Place Community Group
DESCRIPTION:
URL:https://rideauchristianfellowship.com/event/carleton-place-community-group/2026-04-22/
END:VEVENT
BEGIN:VEVENT
DTSTART;TZID=UTC:20260429T190000
DTEND;TZID=UTC:20260429T200000
DTSTAMP:20260422T142537
CREATED:20251124T201959Z
LAST-MODIFIED:20251124T201959Z
UID:10004053-1777489200-1777492800@rideauchristianfellowship.com
SUMMARY:Carleton Place Community Group
DESCRIPTION:
URL:https://rideauchristianfellowship.com/event/carleton-place-community-group/2026-04-29/
END:VEVENT
BEGIN:VEVENT
DTSTART;TZID=UTC:20260506T190000
DTEND;TZID=UTC:20260506T200000
DTSTAMP:20260422T142537
CREATED:20251124T201959Z
LAST-MODIFIED:20251124T201959Z
UID:10004054-1778094000-1778097600@rideauchristianfellowship.com
SUMMARY:Carleton Place Community Group
DESCRIPTION:
URL:https://rideauchristianfellowship.com/event/carleton-place-community-group/2026-05-06/
END:VEVENT
BEGIN:VEVENT
DTSTART;TZID=UTC:20260513T190000
DTEND;TZID=UTC:20260513T200000
DTSTAMP:20260422T142537
CREATED:20251124T201959Z
LAST-MODIFIED:20251124T201959Z
UID:10004055-1778698800-1778702400@rideauchristianfellowship.com
SUMMARY:Carleton Place Community Group
DESCRIPTION:
URL:https://rideauchristianfellowship.com/event/carleton-place-community-group/2026-05-13/
END:VEVENT
BEGIN:VEVENT
DTSTART;TZID=UTC:20260520T190000
DTEND;TZID=UTC:20260520T200000
DTSTAMP:20260422T142537
CREATED:20251124T201959Z
LAST-MODIFIED:20251124T201959Z
UID:10004056-1779303600-1779307200@rideauchristianfellowship.com
SUMMARY:Carleton Place Community Group
DESCRIPTION:
URL:https://rideauchristianfellowship.com/event/carleton-place-community-group/2026-05-20/
END:VEVENT
BEGIN:VEVENT
DTSTART;TZID=UTC:20260527T190000
DTEND;TZID=UTC:20260527T200000
DTSTAMP:20260422T142537
CREATED:20251124T201959Z
LAST-MODIFIED:20251124T201959Z
UID:10004057-1779908400-1779912000@rideauchristianfellowship.com
SUMMARY:Carleton Place Community Group
DESCRIPTION:
URL:https://rideauchristianfellowship.com/event/carleton-place-community-group/2026-05-27/
END:VEVENT
BEGIN:VEVENT
DTSTART;TZID=UTC:20260603T190000
DTEND;TZID=UTC:20260603T200000
DTSTAMP:20260422T142537
CREATED:20251124T201959Z
LAST-MODIFIED:20251124T201959Z
UID:10004058-1780513200-1780516800@rideauchristianfellowship.com
SUMMARY:Carleton Place Community Group
DESCRIPTION:
URL:https://rideauchristianfellowship.com/event/carleton-place-community-group/2026-06-03/
END:VEVENT
BEGIN:VEVENT
DTSTART;TZID=UTC:20260610T190000
DTEND;TZID=UTC:20260610T200000
DTSTAMP:20260422T142537
CREATED:20251124T201959Z
LAST-MODIFIED:20251124T201959Z
UID:10004059-1781118000-1781121600@rideauchristianfellowship.com
SUMMARY:Carleton Place Community Group
DESCRIPTION:
URL:https://rideauchristianfellowship.com/event/carleton-place-community-group/2026-06-10/
END:VEVENT
BEGIN:VEVENT
DTSTART;TZID=UTC:20260617T190000
DTEND;TZID=UTC:20260617T200000
DTSTAMP:20260422T142537
CREATED:20251124T201959Z
LAST-MODIFIED:20251124T201959Z
UID:10004060-1781722800-1781726400@rideauchristianfellowship.com
SUMMARY:Carleton Place Community Group
DESCRIPTION:
URL:https://rideauchristianfellowship.com/event/carleton-place-community-group/2026-06-17/
END:VEVENT
BEGIN:VEVENT
DTSTART;TZID=UTC:20260624T190000
DTEND;TZID=UTC:20260624T200000
DTSTAMP:20260422T142537
CREATED:20251124T201959Z
LAST-MODIFIED:20251124T201959Z
UID:10004061-1782327600-1782331200@rideauchristianfellowship.com
SUMMARY:Carleton Place Community Group
DESCRIPTION:
URL:https://rideauchristianfellowship.com/event/carleton-place-community-group/2026-06-24/
END:VEVENT
BEGIN:VEVENT
DTSTART;TZID=UTC:20260701T190000
DTEND;TZID=UTC:20260701T200000
DTSTAMP:20260422T142537
CREATED:20251124T201959Z
LAST-MODIFIED:20251124T201959Z
UID:10004062-1782932400-1782936000@rideauchristianfellowship.com
SUMMARY:Carleton Place Community Group
DESCRIPTION:
URL:https://rideauchristianfellowship.com/event/carleton-place-community-group/2026-07-01/
END:VEVENT
BEGIN:VEVENT
DTSTART;TZID=UTC:20260708T190000
DTEND;TZID=UTC:20260708T200000
DTSTAMP:20260422T142537
CREATED:20251124T201959Z
LAST-MODIFIED:20251124T201959Z
UID:10004063-1783537200-1783540800@rideauchristianfellowship.com
SUMMARY:Carleton Place Community Group
DESCRIPTION:
URL:https://rideauchristianfellowship.com/event/carleton-place-community-group/2026-07-08/
END:VEVENT
BEGIN:VEVENT
DTSTART;TZID=UTC:20260715T190000
DTEND;TZID=UTC:20260715T200000
DTSTAMP:20260422T142537
CREATED:20251124T201959Z
LAST-MODIFIED:20251124T201959Z
UID:10004064-1784142000-1784145600@rideauchristianfellowship.com
SUMMARY:Carleton Place Community Group
DESCRIPTION:
URL:https://rideauchristianfellowship.com/event/carleton-place-community-group/2026-07-15/
END:VEVENT
BEGIN:VEVENT
DTSTART;TZID=UTC:20260722T190000
DTEND;TZID=UTC:20260722T200000
DTSTAMP:20260422T142537
CREATED:20251124T201959Z
LAST-MODIFIED:20251124T201959Z
UID:10004065-1784746800-1784750400@rideauchristianfellowship.com
SUMMARY:Carleton Place Community Group
DESCRIPTION:
URL:https://rideauchristianfellowship.com/event/carleton-place-community-group/2026-07-22/
END:VEVENT
BEGIN:VEVENT
DTSTART;TZID=UTC:20260729T190000
DTEND;TZID=UTC:20260729T200000
DTSTAMP:20260422T142537
CREATED:20251124T201959Z
LAST-MODIFIED:20251124T201959Z
UID:10004066-1785351600-1785355200@rideauchristianfellowship.com
SUMMARY:Carleton Place Community Group
DESCRIPTION:
URL:https://rideauchristianfellowship.com/event/carleton-place-community-group/2026-07-29/
END:VEVENT
BEGIN:VEVENT
DTSTART;TZID=UTC:20260805T190000
DTEND;TZID=UTC:20260805T200000
DTSTAMP:20260422T142537
CREATED:20251124T201959Z
LAST-MODIFIED:20251124T201959Z
UID:10004067-1785956400-1785960000@rideauchristianfellowship.com
SUMMARY:Carleton Place Community Group
DESCRIPTION:
URL:https://rideauchristianfellowship.com/event/carleton-place-community-group/2026-08-05/
END:VEVENT
BEGIN:VEVENT
DTSTART;TZID=UTC:20260812T190000
DTEND;TZID=UTC:20260812T200000
DTSTAMP:20260422T142537
CREATED:20251124T201959Z
LAST-MODIFIED:20251124T201959Z
UID:10004068-1786561200-1786564800@rideauchristianfellowship.com
SUMMARY:Carleton Place Community Group
DESCRIPTION:
URL:https://rideauchristianfellowship.com/event/carleton-place-community-group/2026-08-12/
END:VEVENT
BEGIN:VEVENT
DTSTART;TZID=UTC:20260819T190000
DTEND;TZID=UTC:20260819T200000
DTSTAMP:20260422T142537
CREATED:20251124T201959Z
LAST-MODIFIED:20251124T201959Z
UID:10004069-1787166000-1787169600@rideauchristianfellowship.com
SUMMARY:Carleton Place Community Group
DESCRIPTION:
URL:https://rideauchristianfellowship.com/event/carleton-place-community-group/2026-08-19/
END:VEVENT
BEGIN:VEVENT
DTSTART;TZID=UTC:20260826T190000
DTEND;TZID=UTC:20260826T200000
DTSTAMP:20260422T142537
CREATED:20251124T201959Z
LAST-MODIFIED:20251124T201959Z
UID:10004070-1787770800-1787774400@rideauchristianfellowship.com
SUMMARY:Carleton Place Community Group
DESCRIPTION:
URL:https://rideauchristianfellowship.com/event/carleton-place-community-group/2026-08-26/
END:VEVENT
BEGIN:VEVENT
DTSTART;TZID=UTC:20260902T190000
DTEND;TZID=UTC:20260902T200000
DTSTAMP:20260422T142537
CREATED:20251124T201959Z
LAST-MODIFIED:20251124T201959Z
UID:10004071-1788375600-1788379200@rideauchristianfellowship.com
SUMMARY:Carleton Place Community Group
DESCRIPTION:
URL:https://rideauchristianfellowship.com/event/carleton-place-community-group/2026-09-02/
END:VEVENT
BEGIN:VEVENT
DTSTART;TZID=UTC:20260909T190000
DTEND;TZID=UTC:20260909T200000
DTSTAMP:20260422T142537
CREATED:20251124T201959Z
LAST-MODIFIED:20251124T201959Z
UID:10004072-1788980400-1788984000@rideauchristianfellowship.com
SUMMARY:Carleton Place Community Group
DESCRIPTION:
URL:https://rideauchristianfellowship.com/event/carleton-place-community-group/2026-09-09/
END:VEVENT
BEGIN:VEVENT
DTSTART;TZID=UTC:20260916T190000
DTEND;TZID=UTC:20260916T200000
DTSTAMP:20260422T142537
CREATED:20251124T201959Z
LAST-MODIFIED:20251124T201959Z
UID:10004073-1789585200-1789588800@rideauchristianfellowship.com
SUMMARY:Carleton Place Community Group
DESCRIPTION:
URL:https://rideauchristianfellowship.com/event/carleton-place-community-group/2026-09-16/
END:VEVENT
BEGIN:VEVENT
DTSTART;TZID=UTC:20260923T190000
DTEND;TZID=UTC:20260923T200000
DTSTAMP:20260422T142537
CREATED:20251124T201959Z
LAST-MODIFIED:20251124T201959Z
UID:10004074-1790190000-1790193600@rideauchristianfellowship.com
SUMMARY:Carleton Place Community Group
DESCRIPTION:
URL:https://rideauchristianfellowship.com/event/carleton-place-community-group/2026-09-23/
END:VEVENT
BEGIN:VEVENT
DTSTART;TZID=UTC:20260930T190000
DTEND;TZID=UTC:20260930T200000
DTSTAMP:20260422T142537
CREATED:20251124T201959Z
LAST-MODIFIED:20251124T201959Z
UID:10004075-1790794800-1790798400@rideauchristianfellowship.com
SUMMARY:Carleton Place Community Group
DESCRIPTION:
URL:https://rideauchristianfellowship.com/event/carleton-place-community-group/2026-09-30/
END:VEVENT
BEGIN:VEVENT
DTSTART;TZID=UTC:20261007T190000
DTEND;TZID=UTC:20261007T200000
DTSTAMP:20260422T142537
CREATED:20251124T201959Z
LAST-MODIFIED:20251124T201959Z
UID:10004076-1791399600-1791403200@rideauchristianfellowship.com
SUMMARY:Carleton Place Community Group
DESCRIPTION:
URL:https://rideauchristianfellowship.com/event/carleton-place-community-group/2026-10-07/
END:VEVENT
BEGIN:VEVENT
DTSTART;TZID=UTC:20261014T190000
DTEND;TZID=UTC:20261014T200000
DTSTAMP:20260422T142537
CREATED:20251124T201959Z
LAST-MODIFIED:20251124T201959Z
UID:10004077-1792004400-1792008000@rideauchristianfellowship.com
SUMMARY:Carleton Place Community Group
DESCRIPTION:
URL:https://rideauchristianfellowship.com/event/carleton-place-community-group/2026-10-14/
END:VEVENT
BEGIN:VEVENT
DTSTART;TZID=UTC:20261021T190000
DTEND;TZID=UTC:20261021T200000
DTSTAMP:20260422T142537
CREATED:20251124T201959Z
LAST-MODIFIED:20251124T201959Z
UID:10004078-1792609200-1792612800@rideauchristianfellowship.com
SUMMARY:Carleton Place Community Group
DESCRIPTION:
URL:https://rideauchristianfellowship.com/event/carleton-place-community-group/2026-10-21/
END:VEVENT
BEGIN:VEVENT
DTSTART;TZID=UTC:20261028T190000
DTEND;TZID=UTC:20261028T200000
DTSTAMP:20260422T142537
CREATED:20251124T201959Z
LAST-MODIFIED:20251124T201959Z
UID:10004079-1793214000-1793217600@rideauchristianfellowship.com
SUMMARY:Carleton Place Community Group
DESCRIPTION:
URL:https://rideauchristianfellowship.com/event/carleton-place-community-group/2026-10-28/
END:VEVENT
BEGIN:VEVENT
DTSTART;TZID=UTC:20261104T190000
DTEND;TZID=UTC:20261104T200000
DTSTAMP:20260422T142537
CREATED:20251124T201959Z
LAST-MODIFIED:20251124T201959Z
UID:10004080-1793818800-1793822400@rideauchristianfellowship.com
SUMMARY:Carleton Place Community Group
DESCRIPTION:
URL:https://rideauchristianfellowship.com/event/carleton-place-community-group/2026-11-04/
END:VEVENT
BEGIN:VEVENT
DTSTART;TZID=UTC:20261111T190000
DTEND;TZID=UTC:20261111T200000
DTSTAMP:20260422T142537
CREATED:20251124T201959Z
LAST-MODIFIED:20251124T201959Z
UID:10004081-1794423600-1794427200@rideauchristianfellowship.com
SUMMARY:Carleton Place Community Group
DESCRIPTION:
URL:https://rideauchristianfellowship.com/event/carleton-place-community-group/2026-11-11/
END:VEVENT
END:VCALENDAR