BEGIN:VCALENDAR
VERSION:2.0
PRODID:-//Rideau Christian Fellowship - ECPv6.15.12.2//NONSGML v1.0//EN
CALSCALE:GREGORIAN
METHOD:PUBLISH
X-WR-CALNAME:Rideau Christian Fellowship
X-ORIGINAL-URL:https://rideauchristianfellowship.com
X-WR-CALDESC:Events for Rideau Christian Fellowship
REFRESH-INTERVAL;VALUE=DURATION:PT1H
X-Robots-Tag:noindex
X-PUBLISHED-TTL:PT1H
BEGIN:VTIMEZONE
TZID:UTC
BEGIN:STANDARD
TZOFFSETFROM:+0000
TZOFFSETTO:+0000
TZNAME:UTC
DTSTART:20250101T000000
END:STANDARD
END:VTIMEZONE
BEGIN:VEVENT
DTSTART;TZID=UTC:20260423T193000
DTEND;TZID=UTC:20260423T203000
DTSTAMP:20260422T142448
CREATED:20251124T220446Z
LAST-MODIFIED:20251124T220446Z
UID:10004313-1776972600-1776976200@rideauchristianfellowship.com
SUMMARY:Perth Community Group
DESCRIPTION:
URL:https://rideauchristianfellowship.com/event/perth-community-group-2/2026-04-23/
END:VEVENT
BEGIN:VEVENT
DTSTART;TZID=UTC:20260430T193000
DTEND;TZID=UTC:20260430T203000
DTSTAMP:20260422T142448
CREATED:20251124T220446Z
LAST-MODIFIED:20251124T220446Z
UID:10004314-1777577400-1777581000@rideauchristianfellowship.com
SUMMARY:Perth Community Group
DESCRIPTION:
URL:https://rideauchristianfellowship.com/event/perth-community-group-2/2026-04-30/
END:VEVENT
BEGIN:VEVENT
DTSTART;TZID=UTC:20260507T193000
DTEND;TZID=UTC:20260507T203000
DTSTAMP:20260422T142448
CREATED:20251124T220446Z
LAST-MODIFIED:20251124T220446Z
UID:10004315-1778182200-1778185800@rideauchristianfellowship.com
SUMMARY:Perth Community Group
DESCRIPTION:
URL:https://rideauchristianfellowship.com/event/perth-community-group-2/2026-05-07/
END:VEVENT
BEGIN:VEVENT
DTSTART;TZID=UTC:20260514T193000
DTEND;TZID=UTC:20260514T203000
DTSTAMP:20260422T142448
CREATED:20251124T220446Z
LAST-MODIFIED:20251124T220446Z
UID:10004316-1778787000-1778790600@rideauchristianfellowship.com
SUMMARY:Perth Community Group
DESCRIPTION:
URL:https://rideauchristianfellowship.com/event/perth-community-group-2/2026-05-14/
END:VEVENT
BEGIN:VEVENT
DTSTART;TZID=UTC:20260521T193000
DTEND;TZID=UTC:20260521T203000
DTSTAMP:20260422T142448
CREATED:20251124T220446Z
LAST-MODIFIED:20251124T220446Z
UID:10004317-1779391800-1779395400@rideauchristianfellowship.com
SUMMARY:Perth Community Group
DESCRIPTION:
URL:https://rideauchristianfellowship.com/event/perth-community-group-2/2026-05-21/
END:VEVENT
BEGIN:VEVENT
DTSTART;TZID=UTC:20260528T193000
DTEND;TZID=UTC:20260528T203000
DTSTAMP:20260422T142448
CREATED:20251124T220446Z
LAST-MODIFIED:20251124T220446Z
UID:10004318-1779996600-1780000200@rideauchristianfellowship.com
SUMMARY:Perth Community Group
DESCRIPTION:
URL:https://rideauchristianfellowship.com/event/perth-community-group-2/2026-05-28/
END:VEVENT
BEGIN:VEVENT
DTSTART;TZID=UTC:20260604T193000
DTEND;TZID=UTC:20260604T203000
DTSTAMP:20260422T142448
CREATED:20251124T220446Z
LAST-MODIFIED:20251124T220446Z
UID:10004319-1780601400-1780605000@rideauchristianfellowship.com
SUMMARY:Perth Community Group
DESCRIPTION:
URL:https://rideauchristianfellowship.com/event/perth-community-group-2/2026-06-04/
END:VEVENT
BEGIN:VEVENT
DTSTART;TZID=UTC:20260611T193000
DTEND;TZID=UTC:20260611T203000
DTSTAMP:20260422T142448
CREATED:20251124T220446Z
LAST-MODIFIED:20251124T220446Z
UID:10004320-1781206200-1781209800@rideauchristianfellowship.com
SUMMARY:Perth Community Group
DESCRIPTION:
URL:https://rideauchristianfellowship.com/event/perth-community-group-2/2026-06-11/
END:VEVENT
BEGIN:VEVENT
DTSTART;TZID=UTC:20260618T193000
DTEND;TZID=UTC:20260618T203000
DTSTAMP:20260422T142448
CREATED:20251124T220446Z
LAST-MODIFIED:20251124T220446Z
UID:10004321-1781811000-1781814600@rideauchristianfellowship.com
SUMMARY:Perth Community Group
DESCRIPTION:
URL:https://rideauchristianfellowship.com/event/perth-community-group-2/2026-06-18/
END:VEVENT
BEGIN:VEVENT
DTSTART;TZID=UTC:20260625T193000
DTEND;TZID=UTC:20260625T203000
DTSTAMP:20260422T142448
CREATED:20251124T220446Z
LAST-MODIFIED:20251124T220446Z
UID:10004322-1782415800-1782419400@rideauchristianfellowship.com
SUMMARY:Perth Community Group
DESCRIPTION:
URL:https://rideauchristianfellowship.com/event/perth-community-group-2/2026-06-25/
END:VEVENT
BEGIN:VEVENT
DTSTART;TZID=UTC:20260702T193000
DTEND;TZID=UTC:20260702T203000
DTSTAMP:20260422T142448
CREATED:20251124T220446Z
LAST-MODIFIED:20251124T220446Z
UID:10004323-1783020600-1783024200@rideauchristianfellowship.com
SUMMARY:Perth Community Group
DESCRIPTION:
URL:https://rideauchristianfellowship.com/event/perth-community-group-2/2026-07-02/
END:VEVENT
BEGIN:VEVENT
DTSTART;TZID=UTC:20260709T193000
DTEND;TZID=UTC:20260709T203000
DTSTAMP:20260422T142448
CREATED:20251124T220446Z
LAST-MODIFIED:20251124T220446Z
UID:10004324-1783625400-1783629000@rideauchristianfellowship.com
SUMMARY:Perth Community Group
DESCRIPTION:
URL:https://rideauchristianfellowship.com/event/perth-community-group-2/2026-07-09/
END:VEVENT
BEGIN:VEVENT
DTSTART;TZID=UTC:20260716T193000
DTEND;TZID=UTC:20260716T203000
DTSTAMP:20260422T142448
CREATED:20251124T220446Z
LAST-MODIFIED:20251124T220446Z
UID:10004325-1784230200-1784233800@rideauchristianfellowship.com
SUMMARY:Perth Community Group
DESCRIPTION:
URL:https://rideauchristianfellowship.com/event/perth-community-group-2/2026-07-16/
END:VEVENT
BEGIN:VEVENT
DTSTART;TZID=UTC:20260723T193000
DTEND;TZID=UTC:20260723T203000
DTSTAMP:20260422T142448
CREATED:20251124T220446Z
LAST-MODIFIED:20251124T220446Z
UID:10004326-1784835000-1784838600@rideauchristianfellowship.com
SUMMARY:Perth Community Group
DESCRIPTION:
URL:https://rideauchristianfellowship.com/event/perth-community-group-2/2026-07-23/
END:VEVENT
BEGIN:VEVENT
DTSTART;TZID=UTC:20260730T193000
DTEND;TZID=UTC:20260730T203000
DTSTAMP:20260422T142448
CREATED:20251124T220446Z
LAST-MODIFIED:20251124T220446Z
UID:10004327-1785439800-1785443400@rideauchristianfellowship.com
SUMMARY:Perth Community Group
DESCRIPTION:
URL:https://rideauchristianfellowship.com/event/perth-community-group-2/2026-07-30/
END:VEVENT
BEGIN:VEVENT
DTSTART;TZID=UTC:20260806T193000
DTEND;TZID=UTC:20260806T203000
DTSTAMP:20260422T142448
CREATED:20251124T220446Z
LAST-MODIFIED:20251124T220446Z
UID:10004328-1786044600-1786048200@rideauchristianfellowship.com
SUMMARY:Perth Community Group
DESCRIPTION:
URL:https://rideauchristianfellowship.com/event/perth-community-group-2/2026-08-06/
END:VEVENT
BEGIN:VEVENT
DTSTART;TZID=UTC:20260813T193000
DTEND;TZID=UTC:20260813T203000
DTSTAMP:20260422T142448
CREATED:20251124T220446Z
LAST-MODIFIED:20251124T220446Z
UID:10004329-1786649400-1786653000@rideauchristianfellowship.com
SUMMARY:Perth Community Group
DESCRIPTION:
URL:https://rideauchristianfellowship.com/event/perth-community-group-2/2026-08-13/
END:VEVENT
BEGIN:VEVENT
DTSTART;TZID=UTC:20260820T193000
DTEND;TZID=UTC:20260820T203000
DTSTAMP:20260422T142448
CREATED:20251124T220446Z
LAST-MODIFIED:20251124T220446Z
UID:10004330-1787254200-1787257800@rideauchristianfellowship.com
SUMMARY:Perth Community Group
DESCRIPTION:
URL:https://rideauchristianfellowship.com/event/perth-community-group-2/2026-08-20/
END:VEVENT
BEGIN:VEVENT
DTSTART;TZID=UTC:20260827T193000
DTEND;TZID=UTC:20260827T203000
DTSTAMP:20260422T142448
CREATED:20251124T220446Z
LAST-MODIFIED:20251124T220446Z
UID:10004331-1787859000-1787862600@rideauchristianfellowship.com
SUMMARY:Perth Community Group
DESCRIPTION:
URL:https://rideauchristianfellowship.com/event/perth-community-group-2/2026-08-27/
END:VEVENT
BEGIN:VEVENT
DTSTART;TZID=UTC:20260903T193000
DTEND;TZID=UTC:20260903T203000
DTSTAMP:20260422T142448
CREATED:20251124T220446Z
LAST-MODIFIED:20251124T220446Z
UID:10004332-1788463800-1788467400@rideauchristianfellowship.com
SUMMARY:Perth Community Group
DESCRIPTION:
URL:https://rideauchristianfellowship.com/event/perth-community-group-2/2026-09-03/
END:VEVENT
BEGIN:VEVENT
DTSTART;TZID=UTC:20260910T193000
DTEND;TZID=UTC:20260910T203000
DTSTAMP:20260422T142448
CREATED:20251124T220446Z
LAST-MODIFIED:20251124T220446Z
UID:10004333-1789068600-1789072200@rideauchristianfellowship.com
SUMMARY:Perth Community Group
DESCRIPTION:
URL:https://rideauchristianfellowship.com/event/perth-community-group-2/2026-09-10/
END:VEVENT
BEGIN:VEVENT
DTSTART;TZID=UTC:20260917T193000
DTEND;TZID=UTC:20260917T203000
DTSTAMP:20260422T142448
CREATED:20251124T220446Z
LAST-MODIFIED:20251124T220446Z
UID:10004334-1789673400-1789677000@rideauchristianfellowship.com
SUMMARY:Perth Community Group
DESCRIPTION:
URL:https://rideauchristianfellowship.com/event/perth-community-group-2/2026-09-17/
END:VEVENT
BEGIN:VEVENT
DTSTART;TZID=UTC:20260924T193000
DTEND;TZID=UTC:20260924T203000
DTSTAMP:20260422T142448
CREATED:20251124T220446Z
LAST-MODIFIED:20251124T220446Z
UID:10004335-1790278200-1790281800@rideauchristianfellowship.com
SUMMARY:Perth Community Group
DESCRIPTION:
URL:https://rideauchristianfellowship.com/event/perth-community-group-2/2026-09-24/
END:VEVENT
BEGIN:VEVENT
DTSTART;TZID=UTC:20261001T193000
DTEND;TZID=UTC:20261001T203000
DTSTAMP:20260422T142448
CREATED:20251124T220446Z
LAST-MODIFIED:20251124T220446Z
UID:10004336-1790883000-1790886600@rideauchristianfellowship.com
SUMMARY:Perth Community Group
DESCRIPTION:
URL:https://rideauchristianfellowship.com/event/perth-community-group-2/2026-10-01/
END:VEVENT
BEGIN:VEVENT
DTSTART;TZID=UTC:20261008T193000
DTEND;TZID=UTC:20261008T203000
DTSTAMP:20260422T142448
CREATED:20251124T220446Z
LAST-MODIFIED:20251124T220446Z
UID:10004337-1791487800-1791491400@rideauchristianfellowship.com
SUMMARY:Perth Community Group
DESCRIPTION:
URL:https://rideauchristianfellowship.com/event/perth-community-group-2/2026-10-08/
END:VEVENT
BEGIN:VEVENT
DTSTART;TZID=UTC:20261015T193000
DTEND;TZID=UTC:20261015T203000
DTSTAMP:20260422T142448
CREATED:20251124T220446Z
LAST-MODIFIED:20251124T220446Z
UID:10004338-1792092600-1792096200@rideauchristianfellowship.com
SUMMARY:Perth Community Group
DESCRIPTION:
URL:https://rideauchristianfellowship.com/event/perth-community-group-2/2026-10-15/
END:VEVENT
BEGIN:VEVENT
DTSTART;TZID=UTC:20261022T193000
DTEND;TZID=UTC:20261022T203000
DTSTAMP:20260422T142448
CREATED:20251124T220446Z
LAST-MODIFIED:20251124T220446Z
UID:10004339-1792697400-1792701000@rideauchristianfellowship.com
SUMMARY:Perth Community Group
DESCRIPTION:
URL:https://rideauchristianfellowship.com/event/perth-community-group-2/2026-10-22/
END:VEVENT
BEGIN:VEVENT
DTSTART;TZID=UTC:20261029T193000
DTEND;TZID=UTC:20261029T203000
DTSTAMP:20260422T142448
CREATED:20251124T220446Z
LAST-MODIFIED:20251124T220446Z
UID:10004340-1793302200-1793305800@rideauchristianfellowship.com
SUMMARY:Perth Community Group
DESCRIPTION:
URL:https://rideauchristianfellowship.com/event/perth-community-group-2/2026-10-29/
END:VEVENT
BEGIN:VEVENT
DTSTART;TZID=UTC:20261105T193000
DTEND;TZID=UTC:20261105T203000
DTSTAMP:20260422T142448
CREATED:20251124T220446Z
LAST-MODIFIED:20251124T220446Z
UID:10004341-1793907000-1793910600@rideauchristianfellowship.com
SUMMARY:Perth Community Group
DESCRIPTION:
URL:https://rideauchristianfellowship.com/event/perth-community-group-2/2026-11-05/
END:VEVENT
BEGIN:VEVENT
DTSTART;TZID=UTC:20261112T193000
DTEND;TZID=UTC:20261112T203000
DTSTAMP:20260422T142448
CREATED:20251124T220446Z
LAST-MODIFIED:20251124T220446Z
UID:10004342-1794511800-1794515400@rideauchristianfellowship.com
SUMMARY:Perth Community Group
DESCRIPTION:
URL:https://rideauchristianfellowship.com/event/perth-community-group-2/2026-11-12/
END:VEVENT
END:VCALENDAR