BEGIN:VCALENDAR
VERSION:2.0
PRODID:-//Rideau Christian Fellowship - ECPv6.15.12.2//NONSGML v1.0//EN
CALSCALE:GREGORIAN
METHOD:PUBLISH
X-WR-CALNAME:Rideau Christian Fellowship
X-ORIGINAL-URL:https://rideauchristianfellowship.com
X-WR-CALDESC:Events for Rideau Christian Fellowship
REFRESH-INTERVAL;VALUE=DURATION:PT1H
X-Robots-Tag:noindex
X-PUBLISHED-TTL:PT1H
BEGIN:VTIMEZONE
TZID:UTC
BEGIN:STANDARD
TZOFFSETFROM:+0000
TZOFFSETTO:+0000
TZNAME:UTC
DTSTART:20250101T000000
END:STANDARD
END:VTIMEZONE
BEGIN:VEVENT
DTSTART;TZID=UTC:20260426T170000
DTEND;TZID=UTC:20260426T190000
DTSTAMP:20260422T142533
CREATED:20260109T210545Z
LAST-MODIFIED:20260109T210545Z
UID:10005615-1777222800-1777230000@rideauchristianfellowship.com
SUMMARY:Alpha Course (includes supper)
DESCRIPTION:
URL:https://rideauchristianfellowship.com/event/alpha-course-includes-supper/2026-04-26/
LOCATION:RCF
END:VEVENT
BEGIN:VEVENT
DTSTART;TZID=UTC:20260503T170000
DTEND;TZID=UTC:20260503T190000
DTSTAMP:20260422T142533
CREATED:20260109T210545Z
LAST-MODIFIED:20260109T210545Z
UID:10005616-1777827600-1777834800@rideauchristianfellowship.com
SUMMARY:Alpha Course (includes supper)
DESCRIPTION:
URL:https://rideauchristianfellowship.com/event/alpha-course-includes-supper/2026-05-03/
LOCATION:RCF
END:VEVENT
BEGIN:VEVENT
DTSTART;TZID=UTC:20260510T170000
DTEND;TZID=UTC:20260510T190000
DTSTAMP:20260422T142533
CREATED:20260109T210545Z
LAST-MODIFIED:20260109T210545Z
UID:10005617-1778432400-1778439600@rideauchristianfellowship.com
SUMMARY:Alpha Course (includes supper)
DESCRIPTION:
URL:https://rideauchristianfellowship.com/event/alpha-course-includes-supper/2026-05-10/
LOCATION:RCF
END:VEVENT
BEGIN:VEVENT
DTSTART;TZID=UTC:20260517T170000
DTEND;TZID=UTC:20260517T190000
DTSTAMP:20260422T142533
CREATED:20260109T210545Z
LAST-MODIFIED:20260109T210545Z
UID:10005618-1779037200-1779044400@rideauchristianfellowship.com
SUMMARY:Alpha Course (includes supper)
DESCRIPTION:
URL:https://rideauchristianfellowship.com/event/alpha-course-includes-supper/2026-05-17/
LOCATION:RCF
END:VEVENT
BEGIN:VEVENT
DTSTART;TZID=UTC:20260524T170000
DTEND;TZID=UTC:20260524T190000
DTSTAMP:20260422T142533
CREATED:20260109T210545Z
LAST-MODIFIED:20260109T210545Z
UID:10005619-1779642000-1779649200@rideauchristianfellowship.com
SUMMARY:Alpha Course (includes supper)
DESCRIPTION:
URL:https://rideauchristianfellowship.com/event/alpha-course-includes-supper/2026-05-24/
LOCATION:RCF
END:VEVENT
BEGIN:VEVENT
DTSTART;TZID=UTC:20260531T170000
DTEND;TZID=UTC:20260531T190000
DTSTAMP:20260422T142533
CREATED:20260109T210545Z
LAST-MODIFIED:20260109T210545Z
UID:10005620-1780246800-1780254000@rideauchristianfellowship.com
SUMMARY:Alpha Course (includes supper)
DESCRIPTION:
URL:https://rideauchristianfellowship.com/event/alpha-course-includes-supper/2026-05-31/
LOCATION:RCF
END:VEVENT
BEGIN:VEVENT
DTSTART;TZID=UTC:20260607T170000
DTEND;TZID=UTC:20260607T190000
DTSTAMP:20260422T142533
CREATED:20260109T210545Z
LAST-MODIFIED:20260109T210545Z
UID:10005621-1780851600-1780858800@rideauchristianfellowship.com
SUMMARY:Alpha Course (includes supper)
DESCRIPTION:
URL:https://rideauchristianfellowship.com/event/alpha-course-includes-supper/2026-06-07/
LOCATION:RCF
END:VEVENT
BEGIN:VEVENT
DTSTART;TZID=UTC:20260614T170000
DTEND;TZID=UTC:20260614T190000
DTSTAMP:20260422T142533
CREATED:20260109T210545Z
LAST-MODIFIED:20260109T210545Z
UID:10005622-1781456400-1781463600@rideauchristianfellowship.com
SUMMARY:Alpha Course (includes supper)
DESCRIPTION:
URL:https://rideauchristianfellowship.com/event/alpha-course-includes-supper/2026-06-14/
LOCATION:RCF
END:VEVENT
BEGIN:VEVENT
DTSTART;TZID=UTC:20260621T170000
DTEND;TZID=UTC:20260621T190000
DTSTAMP:20260422T142533
CREATED:20260109T210545Z
LAST-MODIFIED:20260109T210545Z
UID:10005623-1782061200-1782068400@rideauchristianfellowship.com
SUMMARY:Alpha Course (includes supper)
DESCRIPTION:
URL:https://rideauchristianfellowship.com/event/alpha-course-includes-supper/2026-06-21/
LOCATION:RCF
END:VEVENT
BEGIN:VEVENT
DTSTART;TZID=UTC:20260628T170000
DTEND;TZID=UTC:20260628T190000
DTSTAMP:20260422T142533
CREATED:20260109T210545Z
LAST-MODIFIED:20260109T210545Z
UID:10005624-1782666000-1782673200@rideauchristianfellowship.com
SUMMARY:Alpha Course (includes supper)
DESCRIPTION:
URL:https://rideauchristianfellowship.com/event/alpha-course-includes-supper/2026-06-28/
LOCATION:RCF
END:VEVENT
BEGIN:VEVENT
DTSTART;TZID=UTC:20260705T170000
DTEND;TZID=UTC:20260705T190000
DTSTAMP:20260422T142533
CREATED:20260109T210545Z
LAST-MODIFIED:20260109T210545Z
UID:10005625-1783270800-1783278000@rideauchristianfellowship.com
SUMMARY:Alpha Course (includes supper)
DESCRIPTION:
URL:https://rideauchristianfellowship.com/event/alpha-course-includes-supper/2026-07-05/
LOCATION:RCF
END:VEVENT
BEGIN:VEVENT
DTSTART;TZID=UTC:20260712T170000
DTEND;TZID=UTC:20260712T190000
DTSTAMP:20260422T142533
CREATED:20260109T210545Z
LAST-MODIFIED:20260109T210545Z
UID:10005626-1783875600-1783882800@rideauchristianfellowship.com
SUMMARY:Alpha Course (includes supper)
DESCRIPTION:
URL:https://rideauchristianfellowship.com/event/alpha-course-includes-supper/2026-07-12/
LOCATION:RCF
END:VEVENT
BEGIN:VEVENT
DTSTART;TZID=UTC:20260719T170000
DTEND;TZID=UTC:20260719T190000
DTSTAMP:20260422T142533
CREATED:20260109T210545Z
LAST-MODIFIED:20260109T210545Z
UID:10005627-1784480400-1784487600@rideauchristianfellowship.com
SUMMARY:Alpha Course (includes supper)
DESCRIPTION:
URL:https://rideauchristianfellowship.com/event/alpha-course-includes-supper/2026-07-19/
LOCATION:RCF
END:VEVENT
BEGIN:VEVENT
DTSTART;TZID=UTC:20260726T170000
DTEND;TZID=UTC:20260726T190000
DTSTAMP:20260422T142533
CREATED:20260109T210545Z
LAST-MODIFIED:20260109T210545Z
UID:10005628-1785085200-1785092400@rideauchristianfellowship.com
SUMMARY:Alpha Course (includes supper)
DESCRIPTION:
URL:https://rideauchristianfellowship.com/event/alpha-course-includes-supper/2026-07-26/
LOCATION:RCF
END:VEVENT
BEGIN:VEVENT
DTSTART;TZID=UTC:20260802T170000
DTEND;TZID=UTC:20260802T190000
DTSTAMP:20260422T142533
CREATED:20260109T210545Z
LAST-MODIFIED:20260109T210545Z
UID:10005629-1785690000-1785697200@rideauchristianfellowship.com
SUMMARY:Alpha Course (includes supper)
DESCRIPTION:
URL:https://rideauchristianfellowship.com/event/alpha-course-includes-supper/2026-08-02/
LOCATION:RCF
END:VEVENT
BEGIN:VEVENT
DTSTART;TZID=UTC:20260809T170000
DTEND;TZID=UTC:20260809T190000
DTSTAMP:20260422T142533
CREATED:20260109T210545Z
LAST-MODIFIED:20260109T210545Z
UID:10005630-1786294800-1786302000@rideauchristianfellowship.com
SUMMARY:Alpha Course (includes supper)
DESCRIPTION:
URL:https://rideauchristianfellowship.com/event/alpha-course-includes-supper/2026-08-09/
LOCATION:RCF
END:VEVENT
BEGIN:VEVENT
DTSTART;TZID=UTC:20260816T170000
DTEND;TZID=UTC:20260816T190000
DTSTAMP:20260422T142533
CREATED:20260109T210545Z
LAST-MODIFIED:20260109T210545Z
UID:10005631-1786899600-1786906800@rideauchristianfellowship.com
SUMMARY:Alpha Course (includes supper)
DESCRIPTION:
URL:https://rideauchristianfellowship.com/event/alpha-course-includes-supper/2026-08-16/
LOCATION:RCF
END:VEVENT
BEGIN:VEVENT
DTSTART;TZID=UTC:20260823T170000
DTEND;TZID=UTC:20260823T190000
DTSTAMP:20260422T142533
CREATED:20260109T210545Z
LAST-MODIFIED:20260109T210545Z
UID:10005632-1787504400-1787511600@rideauchristianfellowship.com
SUMMARY:Alpha Course (includes supper)
DESCRIPTION:
URL:https://rideauchristianfellowship.com/event/alpha-course-includes-supper/2026-08-23/
LOCATION:RCF
END:VEVENT
BEGIN:VEVENT
DTSTART;TZID=UTC:20260830T170000
DTEND;TZID=UTC:20260830T190000
DTSTAMP:20260422T142533
CREATED:20260109T210545Z
LAST-MODIFIED:20260109T210545Z
UID:10005633-1788109200-1788116400@rideauchristianfellowship.com
SUMMARY:Alpha Course (includes supper)
DESCRIPTION:
URL:https://rideauchristianfellowship.com/event/alpha-course-includes-supper/2026-08-30/
LOCATION:RCF
END:VEVENT
BEGIN:VEVENT
DTSTART;TZID=UTC:20260906T170000
DTEND;TZID=UTC:20260906T190000
DTSTAMP:20260422T142533
CREATED:20260109T210545Z
LAST-MODIFIED:20260109T210545Z
UID:10005634-1788714000-1788721200@rideauchristianfellowship.com
SUMMARY:Alpha Course (includes supper)
DESCRIPTION:
URL:https://rideauchristianfellowship.com/event/alpha-course-includes-supper/2026-09-06/
LOCATION:RCF
END:VEVENT
BEGIN:VEVENT
DTSTART;TZID=UTC:20260913T170000
DTEND;TZID=UTC:20260913T190000
DTSTAMP:20260422T142533
CREATED:20260109T210545Z
LAST-MODIFIED:20260109T210545Z
UID:10005635-1789318800-1789326000@rideauchristianfellowship.com
SUMMARY:Alpha Course (includes supper)
DESCRIPTION:
URL:https://rideauchristianfellowship.com/event/alpha-course-includes-supper/2026-09-13/
LOCATION:RCF
END:VEVENT
BEGIN:VEVENT
DTSTART;TZID=UTC:20260920T170000
DTEND;TZID=UTC:20260920T190000
DTSTAMP:20260422T142533
CREATED:20260109T210545Z
LAST-MODIFIED:20260109T210545Z
UID:10005636-1789923600-1789930800@rideauchristianfellowship.com
SUMMARY:Alpha Course (includes supper)
DESCRIPTION:
URL:https://rideauchristianfellowship.com/event/alpha-course-includes-supper/2026-09-20/
LOCATION:RCF
END:VEVENT
BEGIN:VEVENT
DTSTART;TZID=UTC:20260927T170000
DTEND;TZID=UTC:20260927T190000
DTSTAMP:20260422T142533
CREATED:20260109T210545Z
LAST-MODIFIED:20260109T210545Z
UID:10005637-1790528400-1790535600@rideauchristianfellowship.com
SUMMARY:Alpha Course (includes supper)
DESCRIPTION:
URL:https://rideauchristianfellowship.com/event/alpha-course-includes-supper/2026-09-27/
LOCATION:RCF
END:VEVENT
BEGIN:VEVENT
DTSTART;TZID=UTC:20261004T170000
DTEND;TZID=UTC:20261004T190000
DTSTAMP:20260422T142533
CREATED:20260109T210545Z
LAST-MODIFIED:20260109T210545Z
UID:10005638-1791133200-1791140400@rideauchristianfellowship.com
SUMMARY:Alpha Course (includes supper)
DESCRIPTION:
URL:https://rideauchristianfellowship.com/event/alpha-course-includes-supper/2026-10-04/
LOCATION:RCF
END:VEVENT
BEGIN:VEVENT
DTSTART;TZID=UTC:20261011T170000
DTEND;TZID=UTC:20261011T190000
DTSTAMP:20260422T142533
CREATED:20260109T210545Z
LAST-MODIFIED:20260109T210545Z
UID:10005639-1791738000-1791745200@rideauchristianfellowship.com
SUMMARY:Alpha Course (includes supper)
DESCRIPTION:
URL:https://rideauchristianfellowship.com/event/alpha-course-includes-supper/2026-10-11/
LOCATION:RCF
END:VEVENT
BEGIN:VEVENT
DTSTART;TZID=UTC:20261018T170000
DTEND;TZID=UTC:20261018T190000
DTSTAMP:20260422T142533
CREATED:20260109T210545Z
LAST-MODIFIED:20260109T210545Z
UID:10005640-1792342800-1792350000@rideauchristianfellowship.com
SUMMARY:Alpha Course (includes supper)
DESCRIPTION:
URL:https://rideauchristianfellowship.com/event/alpha-course-includes-supper/2026-10-18/
LOCATION:RCF
END:VEVENT
BEGIN:VEVENT
DTSTART;TZID=UTC:20261025T170000
DTEND;TZID=UTC:20261025T190000
DTSTAMP:20260422T142533
CREATED:20260109T210545Z
LAST-MODIFIED:20260109T210545Z
UID:10005641-1792947600-1792954800@rideauchristianfellowship.com
SUMMARY:Alpha Course (includes supper)
DESCRIPTION:
URL:https://rideauchristianfellowship.com/event/alpha-course-includes-supper/2026-10-25/
LOCATION:RCF
END:VEVENT
BEGIN:VEVENT
DTSTART;TZID=UTC:20261101T170000
DTEND;TZID=UTC:20261101T190000
DTSTAMP:20260422T142533
CREATED:20260109T210545Z
LAST-MODIFIED:20260109T210545Z
UID:10005642-1793552400-1793559600@rideauchristianfellowship.com
SUMMARY:Alpha Course (includes supper)
DESCRIPTION:
URL:https://rideauchristianfellowship.com/event/alpha-course-includes-supper/2026-11-01/
LOCATION:RCF
END:VEVENT
BEGIN:VEVENT
DTSTART;TZID=UTC:20261108T170000
DTEND;TZID=UTC:20261108T190000
DTSTAMP:20260422T142533
CREATED:20260109T210545Z
LAST-MODIFIED:20260109T210545Z
UID:10005643-1794157200-1794164400@rideauchristianfellowship.com
SUMMARY:Alpha Course (includes supper)
DESCRIPTION:
URL:https://rideauchristianfellowship.com/event/alpha-course-includes-supper/2026-11-08/
LOCATION:RCF
END:VEVENT
BEGIN:VEVENT
DTSTART;TZID=UTC:20261115T170000
DTEND;TZID=UTC:20261115T190000
DTSTAMP:20260422T142533
CREATED:20260109T210545Z
LAST-MODIFIED:20260109T210545Z
UID:10005644-1794762000-1794769200@rideauchristianfellowship.com
SUMMARY:Alpha Course (includes supper)
DESCRIPTION:
URL:https://rideauchristianfellowship.com/event/alpha-course-includes-supper/2026-11-15/
LOCATION:RCF
END:VEVENT
END:VCALENDAR