BEGIN:VCALENDAR
VERSION:2.0
PRODID:-//Rideau Christian Fellowship - ECPv6.15.12.2//NONSGML v1.0//EN
CALSCALE:GREGORIAN
METHOD:PUBLISH
X-WR-CALNAME:Rideau Christian Fellowship
X-ORIGINAL-URL:https://rideauchristianfellowship.com
X-WR-CALDESC:Events for Rideau Christian Fellowship
REFRESH-INTERVAL;VALUE=DURATION:PT1H
X-Robots-Tag:noindex
X-PUBLISHED-TTL:PT1H
BEGIN:VTIMEZONE
TZID:UTC
BEGIN:STANDARD
TZOFFSETFROM:+0000
TZOFFSETTO:+0000
TZNAME:UTC
DTSTART:20250101T000000
END:STANDARD
END:VTIMEZONE
BEGIN:VEVENT
DTSTART;TZID=UTC:20260427T190000
DTEND;TZID=UTC:20260427T200000
DTSTAMP:20260422T142512
CREATED:20260126T141455Z
LAST-MODIFIED:20260126T141455Z
UID:10005679-1777316400-1777320000@rideauchristianfellowship.com
SUMMARY:Storehouse Boys Bible Study
DESCRIPTION:
URL:https://rideauchristianfellowship.com/event/storehouse-boys-bible-study/2026-04-27/
LOCATION:Wills Transfer Warehouse Perth\, Perth
END:VEVENT
BEGIN:VEVENT
DTSTART;TZID=UTC:20260504T190000
DTEND;TZID=UTC:20260504T200000
DTSTAMP:20260422T142512
CREATED:20260126T141455Z
LAST-MODIFIED:20260126T141455Z
UID:10005680-1777921200-1777924800@rideauchristianfellowship.com
SUMMARY:Storehouse Boys Bible Study
DESCRIPTION:
URL:https://rideauchristianfellowship.com/event/storehouse-boys-bible-study/2026-05-04/
LOCATION:Wills Transfer Warehouse Perth\, Perth
END:VEVENT
BEGIN:VEVENT
DTSTART;TZID=UTC:20260511T190000
DTEND;TZID=UTC:20260511T200000
DTSTAMP:20260422T142512
CREATED:20260126T141455Z
LAST-MODIFIED:20260126T141455Z
UID:10005681-1778526000-1778529600@rideauchristianfellowship.com
SUMMARY:Storehouse Boys Bible Study
DESCRIPTION:
URL:https://rideauchristianfellowship.com/event/storehouse-boys-bible-study/2026-05-11/
LOCATION:Wills Transfer Warehouse Perth\, Perth
END:VEVENT
BEGIN:VEVENT
DTSTART;TZID=UTC:20260518T190000
DTEND;TZID=UTC:20260518T200000
DTSTAMP:20260422T142512
CREATED:20260126T141455Z
LAST-MODIFIED:20260126T141455Z
UID:10005682-1779130800-1779134400@rideauchristianfellowship.com
SUMMARY:Storehouse Boys Bible Study
DESCRIPTION:
URL:https://rideauchristianfellowship.com/event/storehouse-boys-bible-study/2026-05-18/
LOCATION:Wills Transfer Warehouse Perth\, Perth
END:VEVENT
BEGIN:VEVENT
DTSTART;TZID=UTC:20260525T190000
DTEND;TZID=UTC:20260525T200000
DTSTAMP:20260422T142512
CREATED:20260126T141455Z
LAST-MODIFIED:20260126T141455Z
UID:10005683-1779735600-1779739200@rideauchristianfellowship.com
SUMMARY:Storehouse Boys Bible Study
DESCRIPTION:
URL:https://rideauchristianfellowship.com/event/storehouse-boys-bible-study/2026-05-25/
LOCATION:Wills Transfer Warehouse Perth\, Perth
END:VEVENT
BEGIN:VEVENT
DTSTART;TZID=UTC:20260601T190000
DTEND;TZID=UTC:20260601T200000
DTSTAMP:20260422T142512
CREATED:20260126T141455Z
LAST-MODIFIED:20260126T141455Z
UID:10005684-1780340400-1780344000@rideauchristianfellowship.com
SUMMARY:Storehouse Boys Bible Study
DESCRIPTION:
URL:https://rideauchristianfellowship.com/event/storehouse-boys-bible-study/2026-06-01/
LOCATION:Wills Transfer Warehouse Perth\, Perth
END:VEVENT
BEGIN:VEVENT
DTSTART;TZID=UTC:20260608T190000
DTEND;TZID=UTC:20260608T200000
DTSTAMP:20260422T142512
CREATED:20260126T141455Z
LAST-MODIFIED:20260126T141455Z
UID:10005685-1780945200-1780948800@rideauchristianfellowship.com
SUMMARY:Storehouse Boys Bible Study
DESCRIPTION:
URL:https://rideauchristianfellowship.com/event/storehouse-boys-bible-study/2026-06-08/
LOCATION:Wills Transfer Warehouse Perth\, Perth
END:VEVENT
BEGIN:VEVENT
DTSTART;TZID=UTC:20260615T190000
DTEND;TZID=UTC:20260615T200000
DTSTAMP:20260422T142512
CREATED:20260126T141455Z
LAST-MODIFIED:20260126T141455Z
UID:10005686-1781550000-1781553600@rideauchristianfellowship.com
SUMMARY:Storehouse Boys Bible Study
DESCRIPTION:
URL:https://rideauchristianfellowship.com/event/storehouse-boys-bible-study/2026-06-15/
LOCATION:Wills Transfer Warehouse Perth\, Perth
END:VEVENT
BEGIN:VEVENT
DTSTART;TZID=UTC:20260622T190000
DTEND;TZID=UTC:20260622T200000
DTSTAMP:20260422T142512
CREATED:20260126T141455Z
LAST-MODIFIED:20260126T141455Z
UID:10005687-1782154800-1782158400@rideauchristianfellowship.com
SUMMARY:Storehouse Boys Bible Study
DESCRIPTION:
URL:https://rideauchristianfellowship.com/event/storehouse-boys-bible-study/2026-06-22/
LOCATION:Wills Transfer Warehouse Perth\, Perth
END:VEVENT
BEGIN:VEVENT
DTSTART;TZID=UTC:20260629T190000
DTEND;TZID=UTC:20260629T200000
DTSTAMP:20260422T142512
CREATED:20260126T141455Z
LAST-MODIFIED:20260126T141455Z
UID:10005688-1782759600-1782763200@rideauchristianfellowship.com
SUMMARY:Storehouse Boys Bible Study
DESCRIPTION:
URL:https://rideauchristianfellowship.com/event/storehouse-boys-bible-study/2026-06-29/
LOCATION:Wills Transfer Warehouse Perth\, Perth
END:VEVENT
BEGIN:VEVENT
DTSTART;TZID=UTC:20260706T190000
DTEND;TZID=UTC:20260706T200000
DTSTAMP:20260422T142512
CREATED:20260126T141455Z
LAST-MODIFIED:20260126T141455Z
UID:10005689-1783364400-1783368000@rideauchristianfellowship.com
SUMMARY:Storehouse Boys Bible Study
DESCRIPTION:
URL:https://rideauchristianfellowship.com/event/storehouse-boys-bible-study/2026-07-06/
LOCATION:Wills Transfer Warehouse Perth\, Perth
END:VEVENT
BEGIN:VEVENT
DTSTART;TZID=UTC:20260713T190000
DTEND;TZID=UTC:20260713T200000
DTSTAMP:20260422T142512
CREATED:20260126T141455Z
LAST-MODIFIED:20260126T141455Z
UID:10005690-1783969200-1783972800@rideauchristianfellowship.com
SUMMARY:Storehouse Boys Bible Study
DESCRIPTION:
URL:https://rideauchristianfellowship.com/event/storehouse-boys-bible-study/2026-07-13/
LOCATION:Wills Transfer Warehouse Perth\, Perth
END:VEVENT
BEGIN:VEVENT
DTSTART;TZID=UTC:20260720T190000
DTEND;TZID=UTC:20260720T200000
DTSTAMP:20260422T142512
CREATED:20260126T141455Z
LAST-MODIFIED:20260126T141455Z
UID:10005691-1784574000-1784577600@rideauchristianfellowship.com
SUMMARY:Storehouse Boys Bible Study
DESCRIPTION:
URL:https://rideauchristianfellowship.com/event/storehouse-boys-bible-study/2026-07-20/
LOCATION:Wills Transfer Warehouse Perth\, Perth
END:VEVENT
BEGIN:VEVENT
DTSTART;TZID=UTC:20260727T190000
DTEND;TZID=UTC:20260727T200000
DTSTAMP:20260422T142512
CREATED:20260126T141455Z
LAST-MODIFIED:20260126T141455Z
UID:10005692-1785178800-1785182400@rideauchristianfellowship.com
SUMMARY:Storehouse Boys Bible Study
DESCRIPTION:
URL:https://rideauchristianfellowship.com/event/storehouse-boys-bible-study/2026-07-27/
LOCATION:Wills Transfer Warehouse Perth\, Perth
END:VEVENT
BEGIN:VEVENT
DTSTART;TZID=UTC:20260803T190000
DTEND;TZID=UTC:20260803T200000
DTSTAMP:20260422T142512
CREATED:20260126T141455Z
LAST-MODIFIED:20260126T141455Z
UID:10005693-1785783600-1785787200@rideauchristianfellowship.com
SUMMARY:Storehouse Boys Bible Study
DESCRIPTION:
URL:https://rideauchristianfellowship.com/event/storehouse-boys-bible-study/2026-08-03/
LOCATION:Wills Transfer Warehouse Perth\, Perth
END:VEVENT
BEGIN:VEVENT
DTSTART;TZID=UTC:20260810T190000
DTEND;TZID=UTC:20260810T200000
DTSTAMP:20260422T142512
CREATED:20260126T141455Z
LAST-MODIFIED:20260126T141455Z
UID:10005694-1786388400-1786392000@rideauchristianfellowship.com
SUMMARY:Storehouse Boys Bible Study
DESCRIPTION:
URL:https://rideauchristianfellowship.com/event/storehouse-boys-bible-study/2026-08-10/
LOCATION:Wills Transfer Warehouse Perth\, Perth
END:VEVENT
BEGIN:VEVENT
DTSTART;TZID=UTC:20260817T190000
DTEND;TZID=UTC:20260817T200000
DTSTAMP:20260422T142512
CREATED:20260126T141455Z
LAST-MODIFIED:20260126T141455Z
UID:10005695-1786993200-1786996800@rideauchristianfellowship.com
SUMMARY:Storehouse Boys Bible Study
DESCRIPTION:
URL:https://rideauchristianfellowship.com/event/storehouse-boys-bible-study/2026-08-17/
LOCATION:Wills Transfer Warehouse Perth\, Perth
END:VEVENT
BEGIN:VEVENT
DTSTART;TZID=UTC:20260824T190000
DTEND;TZID=UTC:20260824T200000
DTSTAMP:20260422T142512
CREATED:20260126T141455Z
LAST-MODIFIED:20260126T141455Z
UID:10005696-1787598000-1787601600@rideauchristianfellowship.com
SUMMARY:Storehouse Boys Bible Study
DESCRIPTION:
URL:https://rideauchristianfellowship.com/event/storehouse-boys-bible-study/2026-08-24/
LOCATION:Wills Transfer Warehouse Perth\, Perth
END:VEVENT
BEGIN:VEVENT
DTSTART;TZID=UTC:20260831T190000
DTEND;TZID=UTC:20260831T200000
DTSTAMP:20260422T142512
CREATED:20260126T141455Z
LAST-MODIFIED:20260126T141455Z
UID:10005697-1788202800-1788206400@rideauchristianfellowship.com
SUMMARY:Storehouse Boys Bible Study
DESCRIPTION:
URL:https://rideauchristianfellowship.com/event/storehouse-boys-bible-study/2026-08-31/
LOCATION:Wills Transfer Warehouse Perth\, Perth
END:VEVENT
BEGIN:VEVENT
DTSTART;TZID=UTC:20260907T190000
DTEND;TZID=UTC:20260907T200000
DTSTAMP:20260422T142512
CREATED:20260126T141455Z
LAST-MODIFIED:20260126T141455Z
UID:10005698-1788807600-1788811200@rideauchristianfellowship.com
SUMMARY:Storehouse Boys Bible Study
DESCRIPTION:
URL:https://rideauchristianfellowship.com/event/storehouse-boys-bible-study/2026-09-07/
LOCATION:Wills Transfer Warehouse Perth\, Perth
END:VEVENT
BEGIN:VEVENT
DTSTART;TZID=UTC:20260914T190000
DTEND;TZID=UTC:20260914T200000
DTSTAMP:20260422T142512
CREATED:20260126T141455Z
LAST-MODIFIED:20260126T141455Z
UID:10005699-1789412400-1789416000@rideauchristianfellowship.com
SUMMARY:Storehouse Boys Bible Study
DESCRIPTION:
URL:https://rideauchristianfellowship.com/event/storehouse-boys-bible-study/2026-09-14/
LOCATION:Wills Transfer Warehouse Perth\, Perth
END:VEVENT
BEGIN:VEVENT
DTSTART;TZID=UTC:20260921T190000
DTEND;TZID=UTC:20260921T200000
DTSTAMP:20260422T142512
CREATED:20260126T141455Z
LAST-MODIFIED:20260126T141455Z
UID:10005700-1790017200-1790020800@rideauchristianfellowship.com
SUMMARY:Storehouse Boys Bible Study
DESCRIPTION:
URL:https://rideauchristianfellowship.com/event/storehouse-boys-bible-study/2026-09-21/
LOCATION:Wills Transfer Warehouse Perth\, Perth
END:VEVENT
BEGIN:VEVENT
DTSTART;TZID=UTC:20260928T190000
DTEND;TZID=UTC:20260928T200000
DTSTAMP:20260422T142512
CREATED:20260126T141455Z
LAST-MODIFIED:20260126T141455Z
UID:10005701-1790622000-1790625600@rideauchristianfellowship.com
SUMMARY:Storehouse Boys Bible Study
DESCRIPTION:
URL:https://rideauchristianfellowship.com/event/storehouse-boys-bible-study/2026-09-28/
LOCATION:Wills Transfer Warehouse Perth\, Perth
END:VEVENT
BEGIN:VEVENT
DTSTART;TZID=UTC:20261005T190000
DTEND;TZID=UTC:20261005T200000
DTSTAMP:20260422T142512
CREATED:20260126T141455Z
LAST-MODIFIED:20260126T141455Z
UID:10005702-1791226800-1791230400@rideauchristianfellowship.com
SUMMARY:Storehouse Boys Bible Study
DESCRIPTION:
URL:https://rideauchristianfellowship.com/event/storehouse-boys-bible-study/2026-10-05/
LOCATION:Wills Transfer Warehouse Perth\, Perth
END:VEVENT
BEGIN:VEVENT
DTSTART;TZID=UTC:20261012T190000
DTEND;TZID=UTC:20261012T200000
DTSTAMP:20260422T142512
CREATED:20260126T141455Z
LAST-MODIFIED:20260126T141455Z
UID:10005703-1791831600-1791835200@rideauchristianfellowship.com
SUMMARY:Storehouse Boys Bible Study
DESCRIPTION:
URL:https://rideauchristianfellowship.com/event/storehouse-boys-bible-study/2026-10-12/
LOCATION:Wills Transfer Warehouse Perth\, Perth
END:VEVENT
BEGIN:VEVENT
DTSTART;TZID=UTC:20261019T190000
DTEND;TZID=UTC:20261019T200000
DTSTAMP:20260422T142512
CREATED:20260126T141455Z
LAST-MODIFIED:20260126T141455Z
UID:10005704-1792436400-1792440000@rideauchristianfellowship.com
SUMMARY:Storehouse Boys Bible Study
DESCRIPTION:
URL:https://rideauchristianfellowship.com/event/storehouse-boys-bible-study/2026-10-19/
LOCATION:Wills Transfer Warehouse Perth\, Perth
END:VEVENT
BEGIN:VEVENT
DTSTART;TZID=UTC:20261026T190000
DTEND;TZID=UTC:20261026T200000
DTSTAMP:20260422T142512
CREATED:20260126T141455Z
LAST-MODIFIED:20260126T141455Z
UID:10005705-1793041200-1793044800@rideauchristianfellowship.com
SUMMARY:Storehouse Boys Bible Study
DESCRIPTION:
URL:https://rideauchristianfellowship.com/event/storehouse-boys-bible-study/2026-10-26/
LOCATION:Wills Transfer Warehouse Perth\, Perth
END:VEVENT
BEGIN:VEVENT
DTSTART;TZID=UTC:20261102T190000
DTEND;TZID=UTC:20261102T200000
DTSTAMP:20260422T142512
CREATED:20260126T141455Z
LAST-MODIFIED:20260126T141455Z
UID:10005706-1793646000-1793649600@rideauchristianfellowship.com
SUMMARY:Storehouse Boys Bible Study
DESCRIPTION:
URL:https://rideauchristianfellowship.com/event/storehouse-boys-bible-study/2026-11-02/
LOCATION:Wills Transfer Warehouse Perth\, Perth
END:VEVENT
BEGIN:VEVENT
DTSTART;TZID=UTC:20261109T190000
DTEND;TZID=UTC:20261109T200000
DTSTAMP:20260422T142512
CREATED:20260126T141455Z
LAST-MODIFIED:20260126T141455Z
UID:10005707-1794250800-1794254400@rideauchristianfellowship.com
SUMMARY:Storehouse Boys Bible Study
DESCRIPTION:
URL:https://rideauchristianfellowship.com/event/storehouse-boys-bible-study/2026-11-09/
LOCATION:Wills Transfer Warehouse Perth\, Perth
END:VEVENT
BEGIN:VEVENT
DTSTART;TZID=UTC:20261116T190000
DTEND;TZID=UTC:20261116T200000
DTSTAMP:20260422T142512
CREATED:20260126T141455Z
LAST-MODIFIED:20260126T141455Z
UID:10005708-1794855600-1794859200@rideauchristianfellowship.com
SUMMARY:Storehouse Boys Bible Study
DESCRIPTION:
URL:https://rideauchristianfellowship.com/event/storehouse-boys-bible-study/2026-11-16/
LOCATION:Wills Transfer Warehouse Perth\, Perth
END:VEVENT
END:VCALENDAR