BEGIN:VCALENDAR
VERSION:2.0
PRODID:-//Rideau Christian Fellowship - ECPv6.15.12.2//NONSGML v1.0//EN
CALSCALE:GREGORIAN
METHOD:PUBLISH
X-WR-CALNAME:Rideau Christian Fellowship
X-ORIGINAL-URL:https://rideauchristianfellowship.com
X-WR-CALDESC:Events for Rideau Christian Fellowship
REFRESH-INTERVAL;VALUE=DURATION:PT1H
X-Robots-Tag:noindex
X-PUBLISHED-TTL:PT1H
BEGIN:VTIMEZONE
TZID:UTC
BEGIN:STANDARD
TZOFFSETFROM:+0000
TZOFFSETTO:+0000
TZNAME:UTC
DTSTART:20250101T000000
END:STANDARD
END:VTIMEZONE
BEGIN:VEVENT
DTSTART;TZID=UTC:20260428T093000
DTEND;TZID=UTC:20260428T110000
DTSTAMP:20260422T142511
CREATED:20260126T141708Z
LAST-MODIFIED:20260126T141708Z
UID:10005940-1777368600-1777374000@rideauchristianfellowship.com
SUMMARY:Moms' Group
DESCRIPTION:
URL:https://rideauchristianfellowship.com/event/moms-group-2/2026-04-28/
LOCATION:Kruszelnicki home\, Perth
END:VEVENT
BEGIN:VEVENT
DTSTART;TZID=UTC:20260505T093000
DTEND;TZID=UTC:20260505T110000
DTSTAMP:20260422T142511
CREATED:20260126T141708Z
LAST-MODIFIED:20260126T141708Z
UID:10005941-1777973400-1777978800@rideauchristianfellowship.com
SUMMARY:Moms' Group
DESCRIPTION:
URL:https://rideauchristianfellowship.com/event/moms-group-2/2026-05-05/
LOCATION:Kruszelnicki home\, Perth
END:VEVENT
BEGIN:VEVENT
DTSTART;TZID=UTC:20260512T093000
DTEND;TZID=UTC:20260512T110000
DTSTAMP:20260422T142511
CREATED:20260126T141708Z
LAST-MODIFIED:20260126T141708Z
UID:10005942-1778578200-1778583600@rideauchristianfellowship.com
SUMMARY:Moms' Group
DESCRIPTION:
URL:https://rideauchristianfellowship.com/event/moms-group-2/2026-05-12/
LOCATION:Kruszelnicki home\, Perth
END:VEVENT
BEGIN:VEVENT
DTSTART;TZID=UTC:20260519T093000
DTEND;TZID=UTC:20260519T110000
DTSTAMP:20260422T142511
CREATED:20260126T141708Z
LAST-MODIFIED:20260126T141708Z
UID:10005943-1779183000-1779188400@rideauchristianfellowship.com
SUMMARY:Moms' Group
DESCRIPTION:
URL:https://rideauchristianfellowship.com/event/moms-group-2/2026-05-19/
LOCATION:Kruszelnicki home\, Perth
END:VEVENT
BEGIN:VEVENT
DTSTART;TZID=UTC:20260526T093000
DTEND;TZID=UTC:20260526T110000
DTSTAMP:20260422T142511
CREATED:20260126T141708Z
LAST-MODIFIED:20260126T141708Z
UID:10005944-1779787800-1779793200@rideauchristianfellowship.com
SUMMARY:Moms' Group
DESCRIPTION:
URL:https://rideauchristianfellowship.com/event/moms-group-2/2026-05-26/
LOCATION:Kruszelnicki home\, Perth
END:VEVENT
BEGIN:VEVENT
DTSTART;TZID=UTC:20260602T093000
DTEND;TZID=UTC:20260602T110000
DTSTAMP:20260422T142511
CREATED:20260126T141708Z
LAST-MODIFIED:20260126T141708Z
UID:10005945-1780392600-1780398000@rideauchristianfellowship.com
SUMMARY:Moms' Group
DESCRIPTION:
URL:https://rideauchristianfellowship.com/event/moms-group-2/2026-06-02/
LOCATION:Kruszelnicki home\, Perth
END:VEVENT
BEGIN:VEVENT
DTSTART;TZID=UTC:20260609T093000
DTEND;TZID=UTC:20260609T110000
DTSTAMP:20260422T142511
CREATED:20260126T141708Z
LAST-MODIFIED:20260126T141708Z
UID:10005946-1780997400-1781002800@rideauchristianfellowship.com
SUMMARY:Moms' Group
DESCRIPTION:
URL:https://rideauchristianfellowship.com/event/moms-group-2/2026-06-09/
LOCATION:Kruszelnicki home\, Perth
END:VEVENT
BEGIN:VEVENT
DTSTART;TZID=UTC:20260616T093000
DTEND;TZID=UTC:20260616T110000
DTSTAMP:20260422T142511
CREATED:20260126T141708Z
LAST-MODIFIED:20260126T141708Z
UID:10005947-1781602200-1781607600@rideauchristianfellowship.com
SUMMARY:Moms' Group
DESCRIPTION:
URL:https://rideauchristianfellowship.com/event/moms-group-2/2026-06-16/
LOCATION:Kruszelnicki home\, Perth
END:VEVENT
BEGIN:VEVENT
DTSTART;TZID=UTC:20260623T093000
DTEND;TZID=UTC:20260623T110000
DTSTAMP:20260422T142511
CREATED:20260126T141708Z
LAST-MODIFIED:20260126T141708Z
UID:10005948-1782207000-1782212400@rideauchristianfellowship.com
SUMMARY:Moms' Group
DESCRIPTION:
URL:https://rideauchristianfellowship.com/event/moms-group-2/2026-06-23/
LOCATION:Kruszelnicki home\, Perth
END:VEVENT
BEGIN:VEVENT
DTSTART;TZID=UTC:20260630T093000
DTEND;TZID=UTC:20260630T110000
DTSTAMP:20260422T142511
CREATED:20260126T141708Z
LAST-MODIFIED:20260126T141708Z
UID:10005949-1782811800-1782817200@rideauchristianfellowship.com
SUMMARY:Moms' Group
DESCRIPTION:
URL:https://rideauchristianfellowship.com/event/moms-group-2/2026-06-30/
LOCATION:Kruszelnicki home\, Perth
END:VEVENT
BEGIN:VEVENT
DTSTART;TZID=UTC:20260707T093000
DTEND;TZID=UTC:20260707T110000
DTSTAMP:20260422T142511
CREATED:20260126T141708Z
LAST-MODIFIED:20260126T141708Z
UID:10005950-1783416600-1783422000@rideauchristianfellowship.com
SUMMARY:Moms' Group
DESCRIPTION:
URL:https://rideauchristianfellowship.com/event/moms-group-2/2026-07-07/
LOCATION:Kruszelnicki home\, Perth
END:VEVENT
BEGIN:VEVENT
DTSTART;TZID=UTC:20260714T093000
DTEND;TZID=UTC:20260714T110000
DTSTAMP:20260422T142511
CREATED:20260126T141708Z
LAST-MODIFIED:20260126T141708Z
UID:10005951-1784021400-1784026800@rideauchristianfellowship.com
SUMMARY:Moms' Group
DESCRIPTION:
URL:https://rideauchristianfellowship.com/event/moms-group-2/2026-07-14/
LOCATION:Kruszelnicki home\, Perth
END:VEVENT
BEGIN:VEVENT
DTSTART;TZID=UTC:20260721T093000
DTEND;TZID=UTC:20260721T110000
DTSTAMP:20260422T142511
CREATED:20260126T141708Z
LAST-MODIFIED:20260126T141708Z
UID:10005952-1784626200-1784631600@rideauchristianfellowship.com
SUMMARY:Moms' Group
DESCRIPTION:
URL:https://rideauchristianfellowship.com/event/moms-group-2/2026-07-21/
LOCATION:Kruszelnicki home\, Perth
END:VEVENT
BEGIN:VEVENT
DTSTART;TZID=UTC:20260728T093000
DTEND;TZID=UTC:20260728T110000
DTSTAMP:20260422T142511
CREATED:20260126T141708Z
LAST-MODIFIED:20260126T141708Z
UID:10005953-1785231000-1785236400@rideauchristianfellowship.com
SUMMARY:Moms' Group
DESCRIPTION:
URL:https://rideauchristianfellowship.com/event/moms-group-2/2026-07-28/
LOCATION:Kruszelnicki home\, Perth
END:VEVENT
BEGIN:VEVENT
DTSTART;TZID=UTC:20260804T093000
DTEND;TZID=UTC:20260804T110000
DTSTAMP:20260422T142511
CREATED:20260126T141708Z
LAST-MODIFIED:20260126T141708Z
UID:10005954-1785835800-1785841200@rideauchristianfellowship.com
SUMMARY:Moms' Group
DESCRIPTION:
URL:https://rideauchristianfellowship.com/event/moms-group-2/2026-08-04/
LOCATION:Kruszelnicki home\, Perth
END:VEVENT
BEGIN:VEVENT
DTSTART;TZID=UTC:20260811T093000
DTEND;TZID=UTC:20260811T110000
DTSTAMP:20260422T142511
CREATED:20260126T141708Z
LAST-MODIFIED:20260126T141708Z
UID:10005955-1786440600-1786446000@rideauchristianfellowship.com
SUMMARY:Moms' Group
DESCRIPTION:
URL:https://rideauchristianfellowship.com/event/moms-group-2/2026-08-11/
LOCATION:Kruszelnicki home\, Perth
END:VEVENT
BEGIN:VEVENT
DTSTART;TZID=UTC:20260818T093000
DTEND;TZID=UTC:20260818T110000
DTSTAMP:20260422T142511
CREATED:20260126T141708Z
LAST-MODIFIED:20260126T141708Z
UID:10005956-1787045400-1787050800@rideauchristianfellowship.com
SUMMARY:Moms' Group
DESCRIPTION:
URL:https://rideauchristianfellowship.com/event/moms-group-2/2026-08-18/
LOCATION:Kruszelnicki home\, Perth
END:VEVENT
BEGIN:VEVENT
DTSTART;TZID=UTC:20260825T093000
DTEND;TZID=UTC:20260825T110000
DTSTAMP:20260422T142511
CREATED:20260126T141708Z
LAST-MODIFIED:20260126T141708Z
UID:10005957-1787650200-1787655600@rideauchristianfellowship.com
SUMMARY:Moms' Group
DESCRIPTION:
URL:https://rideauchristianfellowship.com/event/moms-group-2/2026-08-25/
LOCATION:Kruszelnicki home\, Perth
END:VEVENT
BEGIN:VEVENT
DTSTART;TZID=UTC:20260901T093000
DTEND;TZID=UTC:20260901T110000
DTSTAMP:20260422T142511
CREATED:20260126T141708Z
LAST-MODIFIED:20260126T141708Z
UID:10005958-1788255000-1788260400@rideauchristianfellowship.com
SUMMARY:Moms' Group
DESCRIPTION:
URL:https://rideauchristianfellowship.com/event/moms-group-2/2026-09-01/
LOCATION:Kruszelnicki home\, Perth
END:VEVENT
BEGIN:VEVENT
DTSTART;TZID=UTC:20260908T093000
DTEND;TZID=UTC:20260908T110000
DTSTAMP:20260422T142511
CREATED:20260126T141708Z
LAST-MODIFIED:20260126T141708Z
UID:10005959-1788859800-1788865200@rideauchristianfellowship.com
SUMMARY:Moms' Group
DESCRIPTION:
URL:https://rideauchristianfellowship.com/event/moms-group-2/2026-09-08/
LOCATION:Kruszelnicki home\, Perth
END:VEVENT
BEGIN:VEVENT
DTSTART;TZID=UTC:20260915T093000
DTEND;TZID=UTC:20260915T110000
DTSTAMP:20260422T142511
CREATED:20260126T141708Z
LAST-MODIFIED:20260126T141708Z
UID:10005960-1789464600-1789470000@rideauchristianfellowship.com
SUMMARY:Moms' Group
DESCRIPTION:
URL:https://rideauchristianfellowship.com/event/moms-group-2/2026-09-15/
LOCATION:Kruszelnicki home\, Perth
END:VEVENT
BEGIN:VEVENT
DTSTART;TZID=UTC:20260922T093000
DTEND;TZID=UTC:20260922T110000
DTSTAMP:20260422T142511
CREATED:20260126T141708Z
LAST-MODIFIED:20260126T141708Z
UID:10005961-1790069400-1790074800@rideauchristianfellowship.com
SUMMARY:Moms' Group
DESCRIPTION:
URL:https://rideauchristianfellowship.com/event/moms-group-2/2026-09-22/
LOCATION:Kruszelnicki home\, Perth
END:VEVENT
BEGIN:VEVENT
DTSTART;TZID=UTC:20260929T093000
DTEND;TZID=UTC:20260929T110000
DTSTAMP:20260422T142511
CREATED:20260126T141708Z
LAST-MODIFIED:20260126T141708Z
UID:10005962-1790674200-1790679600@rideauchristianfellowship.com
SUMMARY:Moms' Group
DESCRIPTION:
URL:https://rideauchristianfellowship.com/event/moms-group-2/2026-09-29/
LOCATION:Kruszelnicki home\, Perth
END:VEVENT
BEGIN:VEVENT
DTSTART;TZID=UTC:20261006T093000
DTEND;TZID=UTC:20261006T110000
DTSTAMP:20260422T142511
CREATED:20260126T141708Z
LAST-MODIFIED:20260126T141708Z
UID:10005963-1791279000-1791284400@rideauchristianfellowship.com
SUMMARY:Moms' Group
DESCRIPTION:
URL:https://rideauchristianfellowship.com/event/moms-group-2/2026-10-06/
LOCATION:Kruszelnicki home\, Perth
END:VEVENT
BEGIN:VEVENT
DTSTART;TZID=UTC:20261013T093000
DTEND;TZID=UTC:20261013T110000
DTSTAMP:20260422T142511
CREATED:20260126T141708Z
LAST-MODIFIED:20260126T141708Z
UID:10005964-1791883800-1791889200@rideauchristianfellowship.com
SUMMARY:Moms' Group
DESCRIPTION:
URL:https://rideauchristianfellowship.com/event/moms-group-2/2026-10-13/
LOCATION:Kruszelnicki home\, Perth
END:VEVENT
BEGIN:VEVENT
DTSTART;TZID=UTC:20261020T093000
DTEND;TZID=UTC:20261020T110000
DTSTAMP:20260422T142511
CREATED:20260126T141708Z
LAST-MODIFIED:20260126T141708Z
UID:10005965-1792488600-1792494000@rideauchristianfellowship.com
SUMMARY:Moms' Group
DESCRIPTION:
URL:https://rideauchristianfellowship.com/event/moms-group-2/2026-10-20/
LOCATION:Kruszelnicki home\, Perth
END:VEVENT
BEGIN:VEVENT
DTSTART;TZID=UTC:20261027T093000
DTEND;TZID=UTC:20261027T110000
DTSTAMP:20260422T142511
CREATED:20260126T141708Z
LAST-MODIFIED:20260126T141708Z
UID:10005966-1793093400-1793098800@rideauchristianfellowship.com
SUMMARY:Moms' Group
DESCRIPTION:
URL:https://rideauchristianfellowship.com/event/moms-group-2/2026-10-27/
LOCATION:Kruszelnicki home\, Perth
END:VEVENT
BEGIN:VEVENT
DTSTART;TZID=UTC:20261103T093000
DTEND;TZID=UTC:20261103T110000
DTSTAMP:20260422T142511
CREATED:20260126T141708Z
LAST-MODIFIED:20260126T141708Z
UID:10005967-1793698200-1793703600@rideauchristianfellowship.com
SUMMARY:Moms' Group
DESCRIPTION:
URL:https://rideauchristianfellowship.com/event/moms-group-2/2026-11-03/
LOCATION:Kruszelnicki home\, Perth
END:VEVENT
BEGIN:VEVENT
DTSTART;TZID=UTC:20261110T093000
DTEND;TZID=UTC:20261110T110000
DTSTAMP:20260422T142511
CREATED:20260126T141708Z
LAST-MODIFIED:20260126T141708Z
UID:10005968-1794303000-1794308400@rideauchristianfellowship.com
SUMMARY:Moms' Group
DESCRIPTION:
URL:https://rideauchristianfellowship.com/event/moms-group-2/2026-11-10/
LOCATION:Kruszelnicki home\, Perth
END:VEVENT
BEGIN:VEVENT
DTSTART;TZID=UTC:20261117T093000
DTEND;TZID=UTC:20261117T110000
DTSTAMP:20260422T142511
CREATED:20260126T141708Z
LAST-MODIFIED:20260126T141708Z
UID:10005969-1794907800-1794913200@rideauchristianfellowship.com
SUMMARY:Moms' Group
DESCRIPTION:
URL:https://rideauchristianfellowship.com/event/moms-group-2/2026-11-17/
LOCATION:Kruszelnicki home\, Perth
END:VEVENT
END:VCALENDAR