BEGIN:VCALENDAR
VERSION:2.0
PRODID:-//Rideau Christian Fellowship - ECPv6.15.12.2//NONSGML v1.0//EN
CALSCALE:GREGORIAN
METHOD:PUBLISH
X-WR-CALNAME:Rideau Christian Fellowship
X-ORIGINAL-URL:https://rideauchristianfellowship.com
X-WR-CALDESC:Events for Rideau Christian Fellowship
REFRESH-INTERVAL;VALUE=DURATION:PT1H
X-Robots-Tag:noindex
X-PUBLISHED-TTL:PT1H
BEGIN:VTIMEZONE
TZID:UTC
BEGIN:STANDARD
TZOFFSETFROM:+0000
TZOFFSETTO:+0000
TZNAME:UTC
DTSTART:20250101T000000
END:STANDARD
END:VTIMEZONE
BEGIN:VEVENT
DTSTART;TZID=UTC:20260422T190000
DTEND;TZID=UTC:20260422T193000
DTSTAMP:20260422T142445
CREATED:20260126T141851Z
LAST-MODIFIED:20260126T141851Z
UID:10006200-1776884400-1776886200@rideauchristianfellowship.com
SUMMARY:Zoom Prayer Group
DESCRIPTION:
URL:https://rideauchristianfellowship.com/event/zoom-prayer-group/2026-04-22/
END:VEVENT
BEGIN:VEVENT
DTSTART;TZID=UTC:20260429T190000
DTEND;TZID=UTC:20260429T193000
DTSTAMP:20260422T142445
CREATED:20260126T141851Z
LAST-MODIFIED:20260126T141851Z
UID:10006201-1777489200-1777491000@rideauchristianfellowship.com
SUMMARY:Zoom Prayer Group
DESCRIPTION:
URL:https://rideauchristianfellowship.com/event/zoom-prayer-group/2026-04-29/
END:VEVENT
BEGIN:VEVENT
DTSTART;TZID=UTC:20260506T190000
DTEND;TZID=UTC:20260506T193000
DTSTAMP:20260422T142445
CREATED:20260126T141851Z
LAST-MODIFIED:20260126T141851Z
UID:10006202-1778094000-1778095800@rideauchristianfellowship.com
SUMMARY:Zoom Prayer Group
DESCRIPTION:
URL:https://rideauchristianfellowship.com/event/zoom-prayer-group/2026-05-06/
END:VEVENT
BEGIN:VEVENT
DTSTART;TZID=UTC:20260513T190000
DTEND;TZID=UTC:20260513T193000
DTSTAMP:20260422T142445
CREATED:20260126T141851Z
LAST-MODIFIED:20260126T141851Z
UID:10006203-1778698800-1778700600@rideauchristianfellowship.com
SUMMARY:Zoom Prayer Group
DESCRIPTION:
URL:https://rideauchristianfellowship.com/event/zoom-prayer-group/2026-05-13/
END:VEVENT
BEGIN:VEVENT
DTSTART;TZID=UTC:20260520T190000
DTEND;TZID=UTC:20260520T193000
DTSTAMP:20260422T142445
CREATED:20260126T141851Z
LAST-MODIFIED:20260126T141851Z
UID:10006204-1779303600-1779305400@rideauchristianfellowship.com
SUMMARY:Zoom Prayer Group
DESCRIPTION:
URL:https://rideauchristianfellowship.com/event/zoom-prayer-group/2026-05-20/
END:VEVENT
BEGIN:VEVENT
DTSTART;TZID=UTC:20260527T190000
DTEND;TZID=UTC:20260527T193000
DTSTAMP:20260422T142445
CREATED:20260126T141851Z
LAST-MODIFIED:20260126T141851Z
UID:10006205-1779908400-1779910200@rideauchristianfellowship.com
SUMMARY:Zoom Prayer Group
DESCRIPTION:
URL:https://rideauchristianfellowship.com/event/zoom-prayer-group/2026-05-27/
END:VEVENT
BEGIN:VEVENT
DTSTART;TZID=UTC:20260603T190000
DTEND;TZID=UTC:20260603T193000
DTSTAMP:20260422T142445
CREATED:20260126T141851Z
LAST-MODIFIED:20260126T141851Z
UID:10006206-1780513200-1780515000@rideauchristianfellowship.com
SUMMARY:Zoom Prayer Group
DESCRIPTION:
URL:https://rideauchristianfellowship.com/event/zoom-prayer-group/2026-06-03/
END:VEVENT
BEGIN:VEVENT
DTSTART;TZID=UTC:20260610T190000
DTEND;TZID=UTC:20260610T193000
DTSTAMP:20260422T142445
CREATED:20260126T141851Z
LAST-MODIFIED:20260126T141851Z
UID:10006207-1781118000-1781119800@rideauchristianfellowship.com
SUMMARY:Zoom Prayer Group
DESCRIPTION:
URL:https://rideauchristianfellowship.com/event/zoom-prayer-group/2026-06-10/
END:VEVENT
BEGIN:VEVENT
DTSTART;TZID=UTC:20260617T190000
DTEND;TZID=UTC:20260617T193000
DTSTAMP:20260422T142445
CREATED:20260126T141851Z
LAST-MODIFIED:20260126T141851Z
UID:10006208-1781722800-1781724600@rideauchristianfellowship.com
SUMMARY:Zoom Prayer Group
DESCRIPTION:
URL:https://rideauchristianfellowship.com/event/zoom-prayer-group/2026-06-17/
END:VEVENT
BEGIN:VEVENT
DTSTART;TZID=UTC:20260624T190000
DTEND;TZID=UTC:20260624T193000
DTSTAMP:20260422T142445
CREATED:20260126T141851Z
LAST-MODIFIED:20260126T141851Z
UID:10006209-1782327600-1782329400@rideauchristianfellowship.com
SUMMARY:Zoom Prayer Group
DESCRIPTION:
URL:https://rideauchristianfellowship.com/event/zoom-prayer-group/2026-06-24/
END:VEVENT
BEGIN:VEVENT
DTSTART;TZID=UTC:20260701T190000
DTEND;TZID=UTC:20260701T193000
DTSTAMP:20260422T142445
CREATED:20260126T141851Z
LAST-MODIFIED:20260126T141851Z
UID:10006210-1782932400-1782934200@rideauchristianfellowship.com
SUMMARY:Zoom Prayer Group
DESCRIPTION:
URL:https://rideauchristianfellowship.com/event/zoom-prayer-group/2026-07-01/
END:VEVENT
BEGIN:VEVENT
DTSTART;TZID=UTC:20260708T190000
DTEND;TZID=UTC:20260708T193000
DTSTAMP:20260422T142445
CREATED:20260126T141851Z
LAST-MODIFIED:20260126T141851Z
UID:10006211-1783537200-1783539000@rideauchristianfellowship.com
SUMMARY:Zoom Prayer Group
DESCRIPTION:
URL:https://rideauchristianfellowship.com/event/zoom-prayer-group/2026-07-08/
END:VEVENT
BEGIN:VEVENT
DTSTART;TZID=UTC:20260715T190000
DTEND;TZID=UTC:20260715T193000
DTSTAMP:20260422T142445
CREATED:20260126T141851Z
LAST-MODIFIED:20260126T141851Z
UID:10006212-1784142000-1784143800@rideauchristianfellowship.com
SUMMARY:Zoom Prayer Group
DESCRIPTION:
URL:https://rideauchristianfellowship.com/event/zoom-prayer-group/2026-07-15/
END:VEVENT
BEGIN:VEVENT
DTSTART;TZID=UTC:20260722T190000
DTEND;TZID=UTC:20260722T193000
DTSTAMP:20260422T142445
CREATED:20260126T141851Z
LAST-MODIFIED:20260126T141851Z
UID:10006213-1784746800-1784748600@rideauchristianfellowship.com
SUMMARY:Zoom Prayer Group
DESCRIPTION:
URL:https://rideauchristianfellowship.com/event/zoom-prayer-group/2026-07-22/
END:VEVENT
BEGIN:VEVENT
DTSTART;TZID=UTC:20260729T190000
DTEND;TZID=UTC:20260729T193000
DTSTAMP:20260422T142445
CREATED:20260126T141851Z
LAST-MODIFIED:20260126T141851Z
UID:10006214-1785351600-1785353400@rideauchristianfellowship.com
SUMMARY:Zoom Prayer Group
DESCRIPTION:
URL:https://rideauchristianfellowship.com/event/zoom-prayer-group/2026-07-29/
END:VEVENT
BEGIN:VEVENT
DTSTART;TZID=UTC:20260805T190000
DTEND;TZID=UTC:20260805T193000
DTSTAMP:20260422T142445
CREATED:20260126T141851Z
LAST-MODIFIED:20260126T141851Z
UID:10006215-1785956400-1785958200@rideauchristianfellowship.com
SUMMARY:Zoom Prayer Group
DESCRIPTION:
URL:https://rideauchristianfellowship.com/event/zoom-prayer-group/2026-08-05/
END:VEVENT
BEGIN:VEVENT
DTSTART;TZID=UTC:20260812T190000
DTEND;TZID=UTC:20260812T193000
DTSTAMP:20260422T142445
CREATED:20260126T141851Z
LAST-MODIFIED:20260126T141851Z
UID:10006216-1786561200-1786563000@rideauchristianfellowship.com
SUMMARY:Zoom Prayer Group
DESCRIPTION:
URL:https://rideauchristianfellowship.com/event/zoom-prayer-group/2026-08-12/
END:VEVENT
BEGIN:VEVENT
DTSTART;TZID=UTC:20260819T190000
DTEND;TZID=UTC:20260819T193000
DTSTAMP:20260422T142445
CREATED:20260126T141851Z
LAST-MODIFIED:20260126T141851Z
UID:10006217-1787166000-1787167800@rideauchristianfellowship.com
SUMMARY:Zoom Prayer Group
DESCRIPTION:
URL:https://rideauchristianfellowship.com/event/zoom-prayer-group/2026-08-19/
END:VEVENT
BEGIN:VEVENT
DTSTART;TZID=UTC:20260826T190000
DTEND;TZID=UTC:20260826T193000
DTSTAMP:20260422T142445
CREATED:20260126T141851Z
LAST-MODIFIED:20260126T141851Z
UID:10006218-1787770800-1787772600@rideauchristianfellowship.com
SUMMARY:Zoom Prayer Group
DESCRIPTION:
URL:https://rideauchristianfellowship.com/event/zoom-prayer-group/2026-08-26/
END:VEVENT
BEGIN:VEVENT
DTSTART;TZID=UTC:20260902T190000
DTEND;TZID=UTC:20260902T193000
DTSTAMP:20260422T142445
CREATED:20260126T141851Z
LAST-MODIFIED:20260126T141851Z
UID:10006219-1788375600-1788377400@rideauchristianfellowship.com
SUMMARY:Zoom Prayer Group
DESCRIPTION:
URL:https://rideauchristianfellowship.com/event/zoom-prayer-group/2026-09-02/
END:VEVENT
BEGIN:VEVENT
DTSTART;TZID=UTC:20260909T190000
DTEND;TZID=UTC:20260909T193000
DTSTAMP:20260422T142445
CREATED:20260126T141851Z
LAST-MODIFIED:20260126T141851Z
UID:10006220-1788980400-1788982200@rideauchristianfellowship.com
SUMMARY:Zoom Prayer Group
DESCRIPTION:
URL:https://rideauchristianfellowship.com/event/zoom-prayer-group/2026-09-09/
END:VEVENT
BEGIN:VEVENT
DTSTART;TZID=UTC:20260916T190000
DTEND;TZID=UTC:20260916T193000
DTSTAMP:20260422T142445
CREATED:20260126T141851Z
LAST-MODIFIED:20260126T141851Z
UID:10006221-1789585200-1789587000@rideauchristianfellowship.com
SUMMARY:Zoom Prayer Group
DESCRIPTION:
URL:https://rideauchristianfellowship.com/event/zoom-prayer-group/2026-09-16/
END:VEVENT
BEGIN:VEVENT
DTSTART;TZID=UTC:20260923T190000
DTEND;TZID=UTC:20260923T193000
DTSTAMP:20260422T142445
CREATED:20260126T141851Z
LAST-MODIFIED:20260126T141851Z
UID:10006222-1790190000-1790191800@rideauchristianfellowship.com
SUMMARY:Zoom Prayer Group
DESCRIPTION:
URL:https://rideauchristianfellowship.com/event/zoom-prayer-group/2026-09-23/
END:VEVENT
BEGIN:VEVENT
DTSTART;TZID=UTC:20260930T190000
DTEND;TZID=UTC:20260930T193000
DTSTAMP:20260422T142445
CREATED:20260126T141851Z
LAST-MODIFIED:20260126T141851Z
UID:10006223-1790794800-1790796600@rideauchristianfellowship.com
SUMMARY:Zoom Prayer Group
DESCRIPTION:
URL:https://rideauchristianfellowship.com/event/zoom-prayer-group/2026-09-30/
END:VEVENT
BEGIN:VEVENT
DTSTART;TZID=UTC:20261007T190000
DTEND;TZID=UTC:20261007T193000
DTSTAMP:20260422T142445
CREATED:20260126T141851Z
LAST-MODIFIED:20260126T141851Z
UID:10006224-1791399600-1791401400@rideauchristianfellowship.com
SUMMARY:Zoom Prayer Group
DESCRIPTION:
URL:https://rideauchristianfellowship.com/event/zoom-prayer-group/2026-10-07/
END:VEVENT
BEGIN:VEVENT
DTSTART;TZID=UTC:20261014T190000
DTEND;TZID=UTC:20261014T193000
DTSTAMP:20260422T142445
CREATED:20260126T141851Z
LAST-MODIFIED:20260126T141851Z
UID:10006225-1792004400-1792006200@rideauchristianfellowship.com
SUMMARY:Zoom Prayer Group
DESCRIPTION:
URL:https://rideauchristianfellowship.com/event/zoom-prayer-group/2026-10-14/
END:VEVENT
BEGIN:VEVENT
DTSTART;TZID=UTC:20261021T190000
DTEND;TZID=UTC:20261021T193000
DTSTAMP:20260422T142445
CREATED:20260126T141851Z
LAST-MODIFIED:20260126T141851Z
UID:10006226-1792609200-1792611000@rideauchristianfellowship.com
SUMMARY:Zoom Prayer Group
DESCRIPTION:
URL:https://rideauchristianfellowship.com/event/zoom-prayer-group/2026-10-21/
END:VEVENT
BEGIN:VEVENT
DTSTART;TZID=UTC:20261028T190000
DTEND;TZID=UTC:20261028T193000
DTSTAMP:20260422T142445
CREATED:20260126T141851Z
LAST-MODIFIED:20260126T141851Z
UID:10006227-1793214000-1793215800@rideauchristianfellowship.com
SUMMARY:Zoom Prayer Group
DESCRIPTION:
URL:https://rideauchristianfellowship.com/event/zoom-prayer-group/2026-10-28/
END:VEVENT
BEGIN:VEVENT
DTSTART;TZID=UTC:20261104T190000
DTEND;TZID=UTC:20261104T193000
DTSTAMP:20260422T142445
CREATED:20260126T141851Z
LAST-MODIFIED:20260126T141851Z
UID:10006228-1793818800-1793820600@rideauchristianfellowship.com
SUMMARY:Zoom Prayer Group
DESCRIPTION:
URL:https://rideauchristianfellowship.com/event/zoom-prayer-group/2026-11-04/
END:VEVENT
BEGIN:VEVENT
DTSTART;TZID=UTC:20261111T190000
DTEND;TZID=UTC:20261111T193000
DTSTAMP:20260422T142445
CREATED:20260126T141851Z
LAST-MODIFIED:20260126T141851Z
UID:10006229-1794423600-1794425400@rideauchristianfellowship.com
SUMMARY:Zoom Prayer Group
DESCRIPTION:
URL:https://rideauchristianfellowship.com/event/zoom-prayer-group/2026-11-11/
END:VEVENT
END:VCALENDAR